BEGIN:VCALENDAR
VERSION:2.0
PRODID:-//Saint Augustine Seafood Company | Local Northeast Florida Fast Casual Seafood in Downtown St. Augustine - ECPv6.15.12.2//NONSGML v1.0//EN
CALSCALE:GREGORIAN
METHOD:PUBLISH
X-ORIGINAL-URL:https://saseafoodco.com
X-WR-CALDESC:Events for Saint Augustine Seafood Company | Local Northeast Florida Fast Casual Seafood in Downtown St. Augustine
REFRESH-INTERVAL;VALUE=DURATION:PT1H
X-Robots-Tag:noindex
X-PUBLISHED-TTL:PT1H
BEGIN:VTIMEZONE
TZID:UTC
BEGIN:STANDARD
TZOFFSETFROM:+0000
TZOFFSETTO:+0000
TZNAME:UTC
DTSTART:20220101T000000
END:STANDARD
END:VTIMEZONE
BEGIN:VEVENT
DTSTART;TZID=UTC:20230503T193000
DTEND;TZID=UTC:20230503T210000
DTSTAMP:20260423T092847
CREATED:20230403T002329Z
LAST-MODIFIED:20230503T233920Z
UID:10001572-1683142200-1683147600@saseafoodco.com
SUMMARY:Improv Comedy Night – May 3
DESCRIPTION:Your First Coast Comedy veteran professionals have no plan and willingly dive headfirst into almost any challenge the audience will throw at them\, resulting in unforgettably hilarious moments. \n\nAnd it gets better! This show is for everyone! You can bring the whole family because these improvisers play smart… to ensure the show is always clean and never mean! \n\nPay-What-You-Will.\n\nAll seating is General Admission.\n\nNo ticket is better than any other. Just pay what you think the experience is worth.
URL:https://saseafoodco.com/event/improv-comedy-night-may-3/
LOCATION:Colonial Oak Music Park\, 21 St George Street\, St Augustine\, FL\, 32084\, United States
ATTACH;FMTTYPE=image/jpeg:https://saseafoodco.com/wp-content/uploads/2023/01/IMG_7651-kVGRT3.tmp_.jpg
GEO:29.8966433;-81.3132059
X-APPLE-STRUCTURED-LOCATION;VALUE=URI;X-ADDRESS=Colonial Oak Music Park 21 St George Street St Augustine FL 32084 United States;X-APPLE-RADIUS=500;X-TITLE=21 St George Street:geo:-81.3132059,29.8966433
END:VEVENT
END:VCALENDAR