BEGIN:VCALENDAR
VERSION:2.0
PRODID:-//Saint Augustine Seafood Company | Local Northeast Florida Fast Casual Seafood in Downtown St. Augustine - ECPv6.15.12.2//NONSGML v1.0//EN
CALSCALE:GREGORIAN
METHOD:PUBLISH
X-ORIGINAL-URL:https://saseafoodco.com
X-WR-CALDESC:Events for Saint Augustine Seafood Company | Local Northeast Florida Fast Casual Seafood in Downtown St. Augustine
REFRESH-INTERVAL;VALUE=DURATION:PT1H
X-Robots-Tag:noindex
X-PUBLISHED-TTL:PT1H
BEGIN:VTIMEZONE
TZID:UTC
BEGIN:STANDARD
TZOFFSETFROM:+0000
TZOFFSETTO:+0000
TZNAME:UTC
DTSTART:20220101T000000
END:STANDARD
END:VTIMEZONE
BEGIN:VEVENT
DTSTART;TZID=UTC:20230513T190000
DTEND;TZID=UTC:20230513T220000
DTSTAMP:20260423T092809
CREATED:20230413T002614Z
LAST-MODIFIED:20230513T230853Z
UID:10001582-1684004400-1684015200@saseafoodco.com
SUMMARY:The Saltones – May 13
DESCRIPTION:The SalTones perform from 7-10 PM at the Colonial Quarter’s Maritime Stage! \nFree Event\nFamily friendly\nBars on site! \nThe SalTones are a local band out of St. Augustine Fl. The members are Johnny Morrison-Guitars and Vocals\, Teresa Benton-Lead Vocals and percussion\, Kevin Mileski-Drums and vocals\, and Rob Autrey – Bass and Vocals. Much of their music is southern rock influenced however\, The band is eclectic in their song choices and try to cover a wide range of music.  Each of the members have played in other bands at times and have a wide variety of musical backgrounds.
URL:https://saseafoodco.com/event/the-saltones-may-13/
LOCATION:Colonial Quarter
ATTACH;FMTTYPE=image/jpeg:https://saseafoodco.com/wp-content/uploads/2023/03/Saltones-S41i7h.tmp_.jpg
END:VEVENT
END:VCALENDAR