BEGIN:VCALENDAR
VERSION:2.0
PRODID:-//Saint Augustine Seafood Company | Local Northeast Florida Fast Casual Seafood in Downtown St. Augustine - ECPv6.15.12.2//NONSGML v1.0//EN
CALSCALE:GREGORIAN
METHOD:PUBLISH
X-ORIGINAL-URL:https://saseafoodco.com
X-WR-CALDESC:Events for Saint Augustine Seafood Company | Local Northeast Florida Fast Casual Seafood in Downtown St. Augustine
REFRESH-INTERVAL;VALUE=DURATION:PT1H
X-Robots-Tag:noindex
X-PUBLISHED-TTL:PT1H
BEGIN:VTIMEZONE
TZID:UTC
BEGIN:STANDARD
TZOFFSETFROM:+0000
TZOFFSETTO:+0000
TZNAME:UTC
DTSTART:20240101T000000
END:STANDARD
END:VTIMEZONE
BEGIN:VEVENT
DTSTART;TZID=UTC:20250208T190000
DTEND;TZID=UTC:20250208T220000
DTSTAMP:20260424T153649
CREATED:20250129T152953Z
LAST-MODIFIED:20250208T235952Z
UID:10002216-1739041200-1739052000@saseafoodco.com
SUMMARY:Baba Caiman – February 8
DESCRIPTION:Baba Caiman is a Latin Fusion Band\, started in February 2016 in Jacksonville\, FL by a group of friends who share an intense passion for music and fun!\n\n\n\n\nErika Weitz – Lead Singer\nRaul Martinez – Percussionist\nMichael Quintero – Drummer\nJose Piña – Bassist\nUller Ibarra Bailey – Guitarist\nMauren Delgado – Saxophonist\n\n7-10 PM\nFREE\nFun for all ages\nFriendly pups welcome\nMultiple bars stocked with craft beers\, St. Augustine Distillery Products\, & more!\nOn site dining from St. Augustine Seafood Company!\n\n\n\nClick here for Instagram!\nClick here for Facebook!
URL:https://saseafoodco.com/event/baba-caiman-february-8/
LOCATION:Colonial Oak Music Park\, 21 St George Street\, St Augustine\, FL\, 32084\, United States
ATTACH;FMTTYPE=image/png:https://saseafoodco.com/wp-content/uploads/2025/01/BabaCaiman_600x600-dw3ioi.tmp_.png
GEO:29.8966433;-81.3132059
X-APPLE-STRUCTURED-LOCATION;VALUE=URI;X-ADDRESS=Colonial Oak Music Park 21 St George Street St Augustine FL 32084 United States;X-APPLE-RADIUS=500;X-TITLE=21 St George Street:geo:-81.3132059,29.8966433
END:VEVENT
END:VCALENDAR