BEGIN:VCALENDAR
VERSION:2.0
PRODID:-//Saint Augustine Seafood Company | Local Northeast Florida Fast Casual Seafood in Downtown St. Augustine - ECPv6.15.12.2//NONSGML v1.0//EN
CALSCALE:GREGORIAN
METHOD:PUBLISH
X-WR-CALNAME:Saint Augustine Seafood Company | Local Northeast Florida Fast Casual Seafood in Downtown St. Augustine
X-ORIGINAL-URL:https://saseafoodco.com
X-WR-CALDESC:Events for Saint Augustine Seafood Company | Local Northeast Florida Fast Casual Seafood in Downtown St. Augustine
REFRESH-INTERVAL;VALUE=DURATION:PT1H
X-Robots-Tag:noindex
X-PUBLISHED-TTL:PT1H
BEGIN:VTIMEZONE
TZID:UTC
BEGIN:STANDARD
TZOFFSETFROM:+0000
TZOFFSETTO:+0000
TZNAME:UTC
DTSTART:20240101T000000
END:STANDARD
END:VTIMEZONE
BEGIN:VEVENT
DTSTART;TZID=UTC:20250222T190000
DTEND;TZID=UTC:20250222T220000
DTSTAMP:20260424T121622
CREATED:20250129T152952Z
LAST-MODIFIED:20250222T234454Z
UID:10002218-1740250800-1740261600@saseafoodco.com
SUMMARY:Virginia Sweet & Alex Cano – February 22
DESCRIPTION:Stop by the Oak for an evening of free live music by Virginia Sweet & Alex Cano\n\n7-10 PM\nFREE\nFun for all ages\nFriendly pups welcome\nMultiple bars stocked with craft beers\, St. Augustine Distillery Products\, & more!\nOn site dining from St. Augustine Seafood Company!\n\n\n\nClick here for Instagram!\nClick here for Facebook!
URL:https://saseafoodco.com/event/virginia-sweet-alex-cano-february-22/
LOCATION:FL
ATTACH;FMTTYPE=image/png:https://saseafoodco.com/wp-content/uploads/2025/01/Virginia-Sweet-Alex-Cano-600-x-600-px-W9Sszq.tmp_.png
END:VEVENT
END:VCALENDAR