BEGIN:VCALENDAR
VERSION:2.0
PRODID:-//Saint Augustine Seafood Company | Local Northeast Florida Fast Casual Seafood in Downtown St. Augustine - ECPv6.15.12.2//NONSGML v1.0//EN
CALSCALE:GREGORIAN
METHOD:PUBLISH
X-WR-CALNAME:Saint Augustine Seafood Company | Local Northeast Florida Fast Casual Seafood in Downtown St. Augustine
X-ORIGINAL-URL:https://saseafoodco.com
X-WR-CALDESC:Events for Saint Augustine Seafood Company | Local Northeast Florida Fast Casual Seafood in Downtown St. Augustine
REFRESH-INTERVAL;VALUE=DURATION:PT1H
X-Robots-Tag:noindex
X-PUBLISHED-TTL:PT1H
BEGIN:VTIMEZONE
TZID:UTC
BEGIN:STANDARD
TZOFFSETFROM:+0000
TZOFFSETTO:+0000
TZNAME:UTC
DTSTART:20240101T000000
END:STANDARD
END:VTIMEZONE
BEGIN:VEVENT
DTSTART;TZID=UTC:20250322T190000
DTEND;TZID=UTC:20250322T220000
DTSTAMP:20260421T125006
CREATED:20250220T005951Z
LAST-MODIFIED:20250322T234454Z
UID:10002237-1742670000-1742680800@saseafoodco.com
SUMMARY:Papercutt (ticketed) – March 22
DESCRIPTION:Catch Papercutt on Saturday March 22nd at Colonial Oak Music Park! \n$20 CA$H ONLY presale tickets now available at:\n\nThe Panama Hat Company of St Augustine\n46 St. George st.\nDaily from 10am – 6pm\n\nGet ready to ROCK \,\,/
URL:https://saseafoodco.com/event/papercutt-ticketed-march-22/
LOCATION:Colonial Oak Music Park\, 21 St George Street\, St Augustine\, FL\, 32084\, United States
ATTACH;FMTTYPE=image/jpeg:https://saseafoodco.com/wp-content/uploads/2025/02/papercutt-uXpfY5.tmp_-9CrfZ5.tmp_.jpg
GEO:29.8966433;-81.3132059
X-APPLE-STRUCTURED-LOCATION;VALUE=URI;X-ADDRESS=Colonial Oak Music Park 21 St George Street St Augustine FL 32084 United States;X-APPLE-RADIUS=500;X-TITLE=21 St George Street:geo:-81.3132059,29.8966433
END:VEVENT
END:VCALENDAR