BEGIN:VCALENDAR
VERSION:2.0
PRODID:-//Saint Augustine Seafood Company | Local Northeast Florida Fast Casual Seafood in Downtown St. Augustine - ECPv6.15.12.2//NONSGML v1.0//EN
CALSCALE:GREGORIAN
METHOD:PUBLISH
X-WR-CALNAME:Saint Augustine Seafood Company | Local Northeast Florida Fast Casual Seafood in Downtown St. Augustine
X-ORIGINAL-URL:https://saseafoodco.com
X-WR-CALDESC:Events for Saint Augustine Seafood Company | Local Northeast Florida Fast Casual Seafood in Downtown St. Augustine
REFRESH-INTERVAL;VALUE=DURATION:PT1H
X-Robots-Tag:noindex
X-PUBLISHED-TTL:PT1H
BEGIN:VTIMEZONE
TZID:UTC
BEGIN:STANDARD
TZOFFSETFROM:+0000
TZOFFSETTO:+0000
TZNAME:UTC
DTSTART:20240101T000000
END:STANDARD
END:VTIMEZONE
BEGIN:VEVENT
DTSTART;TZID=UTC:20250328T190000
DTEND;TZID=UTC:20250328T220000
DTSTAMP:20260421T125001
CREATED:20250301T164453Z
LAST-MODIFIED:20250328T235951Z
UID:10002272-1743188400-1743199200@saseafoodco.com
SUMMARY:The Weekend Lovers – March 28
DESCRIPTION:Good vibes\, great friendships\, and a love for all things funky — these are the ingredients that brought The Weekend Lovers together in the spring of 2022.Each of the group’s members — Noelle Vocelka (lead vocals)\, Zach Sutton (lead guitar\, vocals) Brennan Fussman (keys\, guitar\, vocals) Kevin Sutton (drums\, vocals)\, and Aaron “Real Soon” Roth (bass) — were lifelong musicians with decades of experience between them. But\, after meeting through mutual friends in Atlanta\, they knew they’d found something special. The band instantly bonded over shared influences\, matching energies\, and a belief in the healing power of weekends.\n  \n\nFREE show\n7-10 PM\nFun for all ages\nFriendly pups welcome\nMultiple bars stocked with craft beers\, St. Augustine Distillery Products\, & more!\nOn site dining from St. Augustine Seafood Company!\n\n\n\nClick here for Instagram!\nClick here for Facebook!
URL:https://saseafoodco.com/event/the-weekend-lovers-march-28/
LOCATION:Colonial Oak Music Park\, 21 St George Street\, St Augustine\, FL\, 32084\, United States
ATTACH;FMTTYPE=image/png:https://saseafoodco.com/wp-content/uploads/2025/03/The-Weekend-Lovers-600x600-1-IuW1k9.tmp_.png
GEO:29.8966433;-81.3132059
X-APPLE-STRUCTURED-LOCATION;VALUE=URI;X-ADDRESS=Colonial Oak Music Park 21 St George Street St Augustine FL 32084 United States;X-APPLE-RADIUS=500;X-TITLE=21 St George Street:geo:-81.3132059,29.8966433
END:VEVENT
END:VCALENDAR