BEGIN:VCALENDAR
VERSION:2.0
PRODID:-//Saint Augustine Seafood Company | Local Northeast Florida Fast Casual Seafood in Downtown St. Augustine - ECPv6.15.12.2//NONSGML v1.0//EN
CALSCALE:GREGORIAN
METHOD:PUBLISH
X-ORIGINAL-URL:https://saseafoodco.com
X-WR-CALDESC:Events for Saint Augustine Seafood Company | Local Northeast Florida Fast Casual Seafood in Downtown St. Augustine
REFRESH-INTERVAL;VALUE=DURATION:PT1H
X-Robots-Tag:noindex
X-PUBLISHED-TTL:PT1H
BEGIN:VTIMEZONE
TZID:UTC
BEGIN:STANDARD
TZOFFSETFROM:+0000
TZOFFSETTO:+0000
TZNAME:UTC
DTSTART:20180101T000000
END:STANDARD
END:VTIMEZONE
BEGIN:VEVENT
DTSTART;TZID=UTC:20191103T110000
DTEND;TZID=UTC:20191103T200000
DTSTAMP:20260421T124805
CREATED:20190112T080236Z
LAST-MODIFIED:20190112T080236Z
UID:10001122-1572778800-1572811200@saseafoodco.com
SUMMARY:Sports Sundays
DESCRIPTION:Join us for sports all Sunday long on our 128″ video wall at the Oak!  Football season\, it’s NFL football.  Baseball Season\, it’s MLB.  Premier League Soccer matches\, Basketball too.  We have food and drinks for sale\, so all you need is your team spirit!
URL:https://saseafoodco.com/event/sports-sundays-2/2019-11-03/
LOCATION:Colonial Oak Music Park\, 21 St George Street\, St Augustine\, FL\, 32084\, United States
GEO:29.8966433;-81.3132059
X-APPLE-STRUCTURED-LOCATION;VALUE=URI;X-ADDRESS=Colonial Oak Music Park 21 St George Street St Augustine FL 32084 United States;X-APPLE-RADIUS=500;X-TITLE=21 St George Street:geo:-81.3132059,29.8966433
END:VEVENT
BEGIN:VEVENT
DTSTART;TZID=UTC:20191107T190000
DTEND;TZID=UTC:20191107T220000
DTSTAMP:20260421T124805
CREATED:20191028T221204Z
LAST-MODIFIED:20191028T221204Z
UID:10001314-1573153200-1573164000@saseafoodco.com
SUMMARY:Narrow Nights @ the Oak
DESCRIPTION:Narrow Magazine spotlights some of North Florida’s rising talent on Thursday nights at the Oak from 7 to 10pm.
URL:https://saseafoodco.com/event/narrow-nights-the-oak-7/
LOCATION:Colonial Oak Music Park\, 21 St George Street\, St Augustine\, FL\, 32084\, United States
ATTACH;FMTTYPE=image/png:https://saseafoodco.com/wp-content/uploads/2018/03/15285058_739781446179388_7248400951664930319_n.png
GEO:29.8966433;-81.3132059
X-APPLE-STRUCTURED-LOCATION;VALUE=URI;X-ADDRESS=Colonial Oak Music Park 21 St George Street St Augustine FL 32084 United States;X-APPLE-RADIUS=500;X-TITLE=21 St George Street:geo:-81.3132059,29.8966433
END:VEVENT
BEGIN:VEVENT
DTSTART;TZID=UTC:20191110T110000
DTEND;TZID=UTC:20191110T200000
DTSTAMP:20260421T124805
CREATED:20190112T080236Z
LAST-MODIFIED:20190112T080236Z
UID:10001123-1573383600-1573416000@saseafoodco.com
SUMMARY:Sports Sundays
DESCRIPTION:Join us for sports all Sunday long on our 128″ video wall at the Oak!  Football season\, it’s NFL football.  Baseball Season\, it’s MLB.  Premier League Soccer matches\, Basketball too.  We have food and drinks for sale\, so all you need is your team spirit!
URL:https://saseafoodco.com/event/sports-sundays-2/2019-11-10/
LOCATION:Colonial Oak Music Park\, 21 St George Street\, St Augustine\, FL\, 32084\, United States
GEO:29.8966433;-81.3132059
X-APPLE-STRUCTURED-LOCATION;VALUE=URI;X-ADDRESS=Colonial Oak Music Park 21 St George Street St Augustine FL 32084 United States;X-APPLE-RADIUS=500;X-TITLE=21 St George Street:geo:-81.3132059,29.8966433
END:VEVENT
BEGIN:VEVENT
DTSTART;TZID=UTC:20191115T190000
DTEND;TZID=UTC:20191115T220000
DTSTAMP:20260421T124805
CREATED:20191030T014304Z
LAST-MODIFIED:20191030T014304Z
UID:10001321-1573844400-1573855200@saseafoodco.com
SUMMARY:JIVEWIRE
DESCRIPTION:
URL:https://saseafoodco.com/event/jivewire-2/
LOCATION:Colonial Oak Music Park\, 21 St George Street\, St Augustine\, FL\, 32084\, United States
ATTACH;FMTTYPE=image/jpeg:https://saseafoodco.com/wp-content/uploads/2019/05/jivewire.jpg
GEO:29.8966433;-81.3132059
X-APPLE-STRUCTURED-LOCATION;VALUE=URI;X-ADDRESS=Colonial Oak Music Park 21 St George Street St Augustine FL 32084 United States;X-APPLE-RADIUS=500;X-TITLE=21 St George Street:geo:-81.3132059,29.8966433
END:VEVENT
BEGIN:VEVENT
DTSTART;TZID=UTC:20191117T110000
DTEND;TZID=UTC:20191117T200000
DTSTAMP:20260421T124805
CREATED:20190112T080236Z
LAST-MODIFIED:20190112T080236Z
UID:10001124-1573988400-1574020800@saseafoodco.com
SUMMARY:Sports Sundays
DESCRIPTION:Join us for sports all Sunday long on our 128″ video wall at the Oak!  Football season\, it’s NFL football.  Baseball Season\, it’s MLB.  Premier League Soccer matches\, Basketball too.  We have food and drinks for sale\, so all you need is your team spirit!
URL:https://saseafoodco.com/event/sports-sundays-2/2019-11-17/
LOCATION:Colonial Oak Music Park\, 21 St George Street\, St Augustine\, FL\, 32084\, United States
GEO:29.8966433;-81.3132059
X-APPLE-STRUCTURED-LOCATION;VALUE=URI;X-ADDRESS=Colonial Oak Music Park 21 St George Street St Augustine FL 32084 United States;X-APPLE-RADIUS=500;X-TITLE=21 St George Street:geo:-81.3132059,29.8966433
END:VEVENT
BEGIN:VEVENT
DTSTART;TZID=UTC:20191121T190000
DTEND;TZID=UTC:20191121T220000
DTSTAMP:20260421T124805
CREATED:20191028T221601Z
LAST-MODIFIED:20191028T221601Z
UID:10001315-1574362800-1574373600@saseafoodco.com
SUMMARY:Narrow Nights @ the Oak
DESCRIPTION:Narrow Magazine spotlights some of North Florida’s rising talent at the Oak from 7 to 10pm.
URL:https://saseafoodco.com/event/narrow-nights-the-oak-8/
LOCATION:Colonial Oak Music Park\, 21 St George Street\, St Augustine\, FL\, 32084\, United States
ATTACH;FMTTYPE=image/png:https://saseafoodco.com/wp-content/uploads/2018/03/15285058_739781446179388_7248400951664930319_n.png
GEO:29.8966433;-81.3132059
X-APPLE-STRUCTURED-LOCATION;VALUE=URI;X-ADDRESS=Colonial Oak Music Park 21 St George Street St Augustine FL 32084 United States;X-APPLE-RADIUS=500;X-TITLE=21 St George Street:geo:-81.3132059,29.8966433
END:VEVENT
BEGIN:VEVENT
DTSTART;TZID=UTC:20191122T190000
DTEND;TZID=UTC:20191122T220000
DTSTAMP:20260421T124805
CREATED:20191028T221832Z
LAST-MODIFIED:20191028T221832Z
UID:10001316-1574449200-1574460000@saseafoodco.com
SUMMARY:Ramona
DESCRIPTION:
URL:https://saseafoodco.com/event/ramona-7/
LOCATION:Colonial Oak Music Park\, 21 St George Street\, St Augustine\, FL\, 32084\, United States
ATTACH;FMTTYPE=image/jpeg:https://saseafoodco.com/wp-content/uploads/2018/09/ramona.jpg
GEO:29.8966433;-81.3132059
X-APPLE-STRUCTURED-LOCATION;VALUE=URI;X-ADDRESS=Colonial Oak Music Park 21 St George Street St Augustine FL 32084 United States;X-APPLE-RADIUS=500;X-TITLE=21 St George Street:geo:-81.3132059,29.8966433
END:VEVENT
BEGIN:VEVENT
DTSTART;TZID=UTC:20191123T190000
DTEND;TZID=UTC:20191123T220000
DTSTAMP:20260421T124805
CREATED:20191028T222027Z
LAST-MODIFIED:20191028T222027Z
UID:10001317-1574535600-1574546400@saseafoodco.com
SUMMARY:I-vibes
DESCRIPTION:
URL:https://saseafoodco.com/event/i-vibes-12/
LOCATION:Colonial Oak Music Park\, 21 St George Street\, St Augustine\, FL\, 32084\, United States
ATTACH;FMTTYPE=image/jpeg:https://saseafoodco.com/wp-content/uploads/2019/04/ivibes-promo.jpg
GEO:29.8966433;-81.3132059
X-APPLE-STRUCTURED-LOCATION;VALUE=URI;X-ADDRESS=Colonial Oak Music Park 21 St George Street St Augustine FL 32084 United States;X-APPLE-RADIUS=500;X-TITLE=21 St George Street:geo:-81.3132059,29.8966433
END:VEVENT
BEGIN:VEVENT
DTSTART;TZID=UTC:20191124T110000
DTEND;TZID=UTC:20191124T200000
DTSTAMP:20260421T124805
CREATED:20190112T080236Z
LAST-MODIFIED:20190112T080236Z
UID:10001125-1574593200-1574625600@saseafoodco.com
SUMMARY:Sports Sundays
DESCRIPTION:Join us for sports all Sunday long on our 128″ video wall at the Oak!  Football season\, it’s NFL football.  Baseball Season\, it’s MLB.  Premier League Soccer matches\, Basketball too.  We have food and drinks for sale\, so all you need is your team spirit!
URL:https://saseafoodco.com/event/sports-sundays-2/2019-11-24/
LOCATION:Colonial Oak Music Park\, 21 St George Street\, St Augustine\, FL\, 32084\, United States
GEO:29.8966433;-81.3132059
X-APPLE-STRUCTURED-LOCATION;VALUE=URI;X-ADDRESS=Colonial Oak Music Park 21 St George Street St Augustine FL 32084 United States;X-APPLE-RADIUS=500;X-TITLE=21 St George Street:geo:-81.3132059,29.8966433
END:VEVENT
BEGIN:VEVENT
DTSTART;TZID=UTC:20191128T190000
DTEND;TZID=UTC:20191128T220000
DTSTAMP:20260421T124805
CREATED:20191028T222229Z
LAST-MODIFIED:20191028T222229Z
UID:10001318-1574967600-1574978400@saseafoodco.com
SUMMARY:Narrow Nights @ the Oak
DESCRIPTION:Narrow Magazine spotlights some of North Florida’s rising talent at the Oak from 7 to 10pm.
URL:https://saseafoodco.com/event/narrow-nights-the-oak-9/
LOCATION:Colonial Oak Music Park\, 21 St George Street\, St Augustine\, FL\, 32084\, United States
ATTACH;FMTTYPE=image/png:https://saseafoodco.com/wp-content/uploads/2018/03/15285058_739781446179388_7248400951664930319_n.png
GEO:29.8966433;-81.3132059
X-APPLE-STRUCTURED-LOCATION;VALUE=URI;X-ADDRESS=Colonial Oak Music Park 21 St George Street St Augustine FL 32084 United States;X-APPLE-RADIUS=500;X-TITLE=21 St George Street:geo:-81.3132059,29.8966433
END:VEVENT
BEGIN:VEVENT
DTSTART;TZID=UTC:20191129T190000
DTEND;TZID=UTC:20191129T220000
DTSTAMP:20260421T124805
CREATED:20191028T222804Z
LAST-MODIFIED:20191028T222804Z
UID:10001319-1575054000-1575064800@saseafoodco.com
SUMMARY:Kapowski
DESCRIPTION:
URL:https://saseafoodco.com/event/kapowski-10/
LOCATION:Colonial Oak Music Park\, 21 St George Street\, St Augustine\, FL\, 32084\, United States
ATTACH;FMTTYPE=image/jpeg:https://saseafoodco.com/wp-content/uploads/2019/10/kapowski-promo.jpg
GEO:29.8966433;-81.3132059
X-APPLE-STRUCTURED-LOCATION;VALUE=URI;X-ADDRESS=Colonial Oak Music Park 21 St George Street St Augustine FL 32084 United States;X-APPLE-RADIUS=500;X-TITLE=21 St George Street:geo:-81.3132059,29.8966433
END:VEVENT
BEGIN:VEVENT
DTSTART;TZID=UTC:20191130T190000
DTEND;TZID=UTC:20191130T220000
DTSTAMP:20260421T124805
CREATED:20191028T223258Z
LAST-MODIFIED:20191028T223258Z
UID:10001320-1575140400-1575151200@saseafoodco.com
SUMMARY:Baba Caiman
DESCRIPTION:
URL:https://saseafoodco.com/event/baba-caiman-9/
LOCATION:Colonial Oak Music Park\, 21 St George Street\, St Augustine\, FL\, 32084\, United States
GEO:29.8966433;-81.3132059
X-APPLE-STRUCTURED-LOCATION;VALUE=URI;X-ADDRESS=Colonial Oak Music Park 21 St George Street St Augustine FL 32084 United States;X-APPLE-RADIUS=500;X-TITLE=21 St George Street:geo:-81.3132059,29.8966433
END:VEVENT
BEGIN:VEVENT
DTSTART;TZID=UTC:20191201T110000
DTEND;TZID=UTC:20191201T200000
DTSTAMP:20260421T124805
CREATED:20190112T080236Z
LAST-MODIFIED:20190112T080236Z
UID:10001126-1575198000-1575230400@saseafoodco.com
SUMMARY:Sports Sundays
DESCRIPTION:Join us for sports all Sunday long on our 128″ video wall at the Oak!  Football season\, it’s NFL football.  Baseball Season\, it’s MLB.  Premier League Soccer matches\, Basketball too.  We have food and drinks for sale\, so all you need is your team spirit!
URL:https://saseafoodco.com/event/sports-sundays-2/2019-12-01/
LOCATION:Colonial Oak Music Park\, 21 St George Street\, St Augustine\, FL\, 32084\, United States
GEO:29.8966433;-81.3132059
X-APPLE-STRUCTURED-LOCATION;VALUE=URI;X-ADDRESS=Colonial Oak Music Park 21 St George Street St Augustine FL 32084 United States;X-APPLE-RADIUS=500;X-TITLE=21 St George Street:geo:-81.3132059,29.8966433
END:VEVENT
BEGIN:VEVENT
DTSTART;TZID=UTC:20191208T110000
DTEND;TZID=UTC:20191208T200000
DTSTAMP:20260421T124805
CREATED:20190112T080236Z
LAST-MODIFIED:20190112T080236Z
UID:10001127-1575802800-1575835200@saseafoodco.com
SUMMARY:Sports Sundays
DESCRIPTION:Join us for sports all Sunday long on our 128″ video wall at the Oak!  Football season\, it’s NFL football.  Baseball Season\, it’s MLB.  Premier League Soccer matches\, Basketball too.  We have food and drinks for sale\, so all you need is your team spirit!
URL:https://saseafoodco.com/event/sports-sundays-2/2019-12-08/
LOCATION:Colonial Oak Music Park\, 21 St George Street\, St Augustine\, FL\, 32084\, United States
GEO:29.8966433;-81.3132059
X-APPLE-STRUCTURED-LOCATION;VALUE=URI;X-ADDRESS=Colonial Oak Music Park 21 St George Street St Augustine FL 32084 United States;X-APPLE-RADIUS=500;X-TITLE=21 St George Street:geo:-81.3132059,29.8966433
END:VEVENT
BEGIN:VEVENT
DTSTART;TZID=UTC:20191215T110000
DTEND;TZID=UTC:20191215T200000
DTSTAMP:20260421T124805
CREATED:20190112T080236Z
LAST-MODIFIED:20190112T080236Z
UID:10001128-1576407600-1576440000@saseafoodco.com
SUMMARY:Sports Sundays
DESCRIPTION:Join us for sports all Sunday long on our 128″ video wall at the Oak!  Football season\, it’s NFL football.  Baseball Season\, it’s MLB.  Premier League Soccer matches\, Basketball too.  We have food and drinks for sale\, so all you need is your team spirit!
URL:https://saseafoodco.com/event/sports-sundays-2/2019-12-15/
LOCATION:Colonial Oak Music Park\, 21 St George Street\, St Augustine\, FL\, 32084\, United States
GEO:29.8966433;-81.3132059
X-APPLE-STRUCTURED-LOCATION;VALUE=URI;X-ADDRESS=Colonial Oak Music Park 21 St George Street St Augustine FL 32084 United States;X-APPLE-RADIUS=500;X-TITLE=21 St George Street:geo:-81.3132059,29.8966433
END:VEVENT
BEGIN:VEVENT
DTSTART;TZID=UTC:20191219T190000
DTEND;TZID=UTC:20191219T190000
DTSTAMP:20260421T124805
CREATED:20191216T204846Z
LAST-MODIFIED:20191217T011930Z
UID:10001322-1576782000-1576782000@saseafoodco.com
SUMMARY:Narrow Night @ The Oak
DESCRIPTION:There’s always a plethora of fun and unique music on hand\, courtesy of Narrow; St. Augustine’s premier music and lifestyle magazine.
URL:https://saseafoodco.com/event/narrow-night-the-oak/
LOCATION:FL
END:VEVENT
BEGIN:VEVENT
DTSTART;TZID=UTC:20191220T190000
DTEND;TZID=UTC:20191220T190000
DTSTAMP:20260421T124805
CREATED:20191216T204846Z
LAST-MODIFIED:20191220T010905Z
UID:10001323-1576868400-1576868400@saseafoodco.com
SUMMARY:JW Gilmore & The Blues Authority
DESCRIPTION:JW Gilmore and The Blues Authority: A toe tapping\, finger snapping\, hip shakin’\, Boogie Woogie\,  jump swing\, Blues Band!\nYou’ll be sure to be dancing when they take the Colonial Oak Stage!
URL:https://saseafoodco.com/event/jw-gilmore-the-blues-authority-14/
LOCATION:FL
ATTACH;FMTTYPE=image/jpeg:https://saseafoodco.com/wp-content/uploads/2019/12/jwgilmore.jpg
END:VEVENT
BEGIN:VEVENT
DTSTART;TZID=UTC:20191221T150000
DTEND;TZID=UTC:20191221T150000
DTSTAMP:20260421T124805
CREATED:20191216T204846Z
LAST-MODIFIED:20191220T011132Z
UID:10001324-1576940400-1576940400@saseafoodco.com
SUMMARY:Savanna Leigh Bassett
DESCRIPTION:Savanna Leigh Bassett is a musician\, singer\, and songwriter from Jacksonville\, FL who is known in music circles throughout the South. We are pleased to have her performing at the Colonial Oak!
URL:https://saseafoodco.com/event/savannah-lee-bassett/
LOCATION:FL
END:VEVENT
BEGIN:VEVENT
DTSTART;TZID=UTC:20191221T190000
DTEND;TZID=UTC:20191221T190000
DTSTAMP:20260421T124805
CREATED:20191216T204846Z
LAST-MODIFIED:20191220T011226Z
UID:10001325-1576954800-1576954800@saseafoodco.com
SUMMARY:Not Quite Dead - A Very Jerry Christmas
DESCRIPTION:Consider us grateful that Not Quite Dead hosts it annual Very Jerry Xmas party under the Colonial Oak!
URL:https://saseafoodco.com/event/not-quite-dead-a-very-jerry-christmas/
LOCATION:FL
ATTACH;FMTTYPE=image/png:https://saseafoodco.com/wp-content/uploads/2018/11/nqd.png
END:VEVENT
BEGIN:VEVENT
DTSTART;TZID=UTC:20191222T110000
DTEND;TZID=UTC:20191222T200000
DTSTAMP:20260421T124805
CREATED:20190112T080236Z
LAST-MODIFIED:20190112T080236Z
UID:10001129-1577012400-1577044800@saseafoodco.com
SUMMARY:Sports Sundays
DESCRIPTION:Join us for sports all Sunday long on our 128″ video wall at the Oak!  Football season\, it’s NFL football.  Baseball Season\, it’s MLB.  Premier League Soccer matches\, Basketball too.  We have food and drinks for sale\, so all you need is your team spirit!
URL:https://saseafoodco.com/event/sports-sundays-2/2019-12-22/
LOCATION:Colonial Oak Music Park\, 21 St George Street\, St Augustine\, FL\, 32084\, United States
GEO:29.8966433;-81.3132059
X-APPLE-STRUCTURED-LOCATION;VALUE=URI;X-ADDRESS=Colonial Oak Music Park 21 St George Street St Augustine FL 32084 United States;X-APPLE-RADIUS=500;X-TITLE=21 St George Street:geo:-81.3132059,29.8966433
END:VEVENT
BEGIN:VEVENT
DTSTART;TZID=UTC:20191223T160000
DTEND;TZID=UTC:20191223T160000
DTSTAMP:20260421T124805
CREATED:20191216T204846Z
LAST-MODIFIED:20191220T011521Z
UID:10001028-1577116800-1577116800@saseafoodco.com
SUMMARY:Stephen Pigman
DESCRIPTION:Once again\, one-man jam band\, Stephen Pigman brings his unique style and fun vibe to the Colonial Oak!
URL:https://saseafoodco.com/event/stephen-pigman-8/
LOCATION:FL
END:VEVENT
BEGIN:VEVENT
DTSTART;TZID=UTC:20191223T190000
DTEND;TZID=UTC:20191223T190000
DTSTAMP:20260421T124805
CREATED:20191216T204853Z
LAST-MODIFIED:20191220T013559Z
UID:10001030-1577127600-1577127600@saseafoodco.com
SUMMARY:Brett Bass & Melted Plectrum
DESCRIPTION:The founder and flat picking front man of Grandpa’s Cough Medicine has moved back to Florida. Brett Bass is shedding his outlaw skin to bring the family friendly\, hard driving\, high energy bluegrass sound of his powerful guitar and songwriting to  The Colonial Oak Music Park!
URL:https://saseafoodco.com/event/brett-bass-melted-plectrum/
LOCATION:FL
END:VEVENT
BEGIN:VEVENT
DTSTART;TZID=UTC:20191224T170000
DTEND;TZID=UTC:20191224T200000
DTSTAMP:20260421T124805
CREATED:20191216T204853Z
LAST-MODIFIED:20191220T014121Z
UID:10001032-1577206800-1577217600@saseafoodco.com
SUMMARY:Christmas At The Oak with JOLIE
DESCRIPTION:Come spend a magical Christmas Eve with Jolie at The Colonial Oak Music Park in downtown St. Augustine! Join Jolie at the Oak this Christmas Eve from 5-8 pm for a holiday show featuring your Christmas favorites and special performances with her family throughout the night. Bring your family\, friends\, and your ugly Christmas sweaters and ring in the holiday spirit with St. Augustine’s best vocalist. \nTickets are $10 online via Eventbrite\, or will be available at the door. \n 
URL:https://saseafoodco.com/event/christmas-at-the-oak-with-jolie/
LOCATION:FL
END:VEVENT
BEGIN:VEVENT
DTSTART;TZID=UTC:20191226T160000
DTEND;TZID=UTC:20191226T160000
DTSTAMP:20260421T124805
CREATED:20191216T204853Z
LAST-MODIFIED:20191220T014351Z
UID:10001034-1577376000-1577376000@saseafoodco.com
SUMMARY:Christian Powers
DESCRIPTION:St. Augustine\, Florida native\, Christian Powers is a singer/songwriter with a musical style steeped in americana folk pop that reflects his passion for the ocean and wholesome living.
URL:https://saseafoodco.com/event/christian-powers/
LOCATION:FL
ATTACH;FMTTYPE=image/jpeg:https://saseafoodco.com/wp-content/uploads/2019/12/ChristianPowers.jpg
END:VEVENT
BEGIN:VEVENT
DTSTART;TZID=UTC:20191226T190000
DTEND;TZID=UTC:20191226T190000
DTSTAMP:20260421T124805
CREATED:20191216T204853Z
LAST-MODIFIED:20191220T014457Z
UID:10001036-1577386800-1577386800@saseafoodco.com
SUMMARY:RAMONA
DESCRIPTION:One of St. Augustine’s busiest and most in demand bands. RAMONA is sure to bring their own brand of enjoyable and fun music to the Colonial Oak!
URL:https://saseafoodco.com/event/ramona-8/
LOCATION:FL
ATTACH;FMTTYPE=image/jpeg:https://saseafoodco.com/wp-content/uploads/2018/09/ramona.jpg
END:VEVENT
BEGIN:VEVENT
DTSTART;TZID=UTC:20191227T153000
DTEND;TZID=UTC:20191227T153000
DTSTAMP:20260421T124805
CREATED:20191216T204854Z
LAST-MODIFIED:20191220T014648Z
UID:10001038-1577460600-1577460600@saseafoodco.com
SUMMARY:Kyra Livingston
DESCRIPTION:An exceptional and vocally driven performer\, St. Augustine’s Kyra Livingston blends pop\, rock\, jazz\, soul\, blues\, and funk into a delectable cascade of musical glory.
URL:https://saseafoodco.com/event/kyra-livingston-3/
LOCATION:FL
END:VEVENT
BEGIN:VEVENT
DTSTART;TZID=UTC:20191227T190000
DTEND;TZID=UTC:20191227T190000
DTSTAMP:20260421T124805
CREATED:20191216T204856Z
LAST-MODIFIED:20191220T014804Z
UID:10001040-1577473200-1577473200@saseafoodco.com
SUMMARY:I-Vibes
DESCRIPTION:An original band grounded in a reggae influence\, I-Vibes was founded in 2010. They continue to cover new ground\, merging and fusing many elements of musical expression. A great band for a night at the Oak!
URL:https://saseafoodco.com/event/i-vibes-13/
LOCATION:FL
ATTACH;FMTTYPE=image/jpeg:https://saseafoodco.com/wp-content/uploads/2018/09/ivibes-promo.jpg
END:VEVENT
BEGIN:VEVENT
DTSTART;TZID=UTC:20191228T190000
DTEND;TZID=UTC:20191228T190000
DTSTAMP:20260421T124805
CREATED:20191216T204856Z
LAST-MODIFIED:20191220T014901Z
UID:10001041-1577559600-1577559600@saseafoodco.com
SUMMARY:Jive Wire
DESCRIPTION:JIVEWIRE is a four piece out of St. Augustine\, FL that always brings a wide-range of musical options. \nThey play familiar tunes that you can dance to; from Hall & Oates to Maroon 5\, Sublime to Bill Withers\, they have it covered.
URL:https://saseafoodco.com/event/jive-wire/
LOCATION:FL
ATTACH;FMTTYPE=image/jpeg:https://saseafoodco.com/wp-content/uploads/2019/05/jivewire.jpg
END:VEVENT
BEGIN:VEVENT
DTSTART;TZID=UTC:20191229T110000
DTEND;TZID=UTC:20191229T200000
DTSTAMP:20260421T124805
CREATED:20190112T080236Z
LAST-MODIFIED:20190112T080236Z
UID:10001130-1577617200-1577649600@saseafoodco.com
SUMMARY:Sports Sundays
DESCRIPTION:Join us for sports all Sunday long on our 128″ video wall at the Oak!  Football season\, it’s NFL football.  Baseball Season\, it’s MLB.  Premier League Soccer matches\, Basketball too.  We have food and drinks for sale\, so all you need is your team spirit!
URL:https://saseafoodco.com/event/sports-sundays-2/2019-12-29/
LOCATION:Colonial Oak Music Park\, 21 St George Street\, St Augustine\, FL\, 32084\, United States
GEO:29.8966433;-81.3132059
X-APPLE-STRUCTURED-LOCATION;VALUE=URI;X-ADDRESS=Colonial Oak Music Park 21 St George Street St Augustine FL 32084 United States;X-APPLE-RADIUS=500;X-TITLE=21 St George Street:geo:-81.3132059,29.8966433
END:VEVENT
BEGIN:VEVENT
DTSTART;TZID=UTC:20191230T190000
DTEND;TZID=UTC:20191230T190000
DTSTAMP:20260421T124805
CREATED:20191216T204856Z
LAST-MODIFIED:20191220T015114Z
UID:10001042-1577732400-1577732400@saseafoodco.com
SUMMARY:The Groove Coalition
DESCRIPTION:Get yourself ready to dance as Northeast Florida’s favorite blend of R&B\, Soul\, Funk\, and Neo-Soul comes back to the Colonial Oak Music Park!
URL:https://saseafoodco.com/event/the-groove-coalition-8/
LOCATION:FL
ATTACH;FMTTYPE=image/jpeg:https://saseafoodco.com/wp-content/uploads/2018/07/groove-coalition-promo.jpg
END:VEVENT
END:VCALENDAR