BEGIN:VCALENDAR
VERSION:2.0
PRODID:-//Saint Augustine Seafood Company | Local Northeast Florida Fast Casual Seafood in Downtown St. Augustine - ECPv6.15.12.2//NONSGML v1.0//EN
CALSCALE:GREGORIAN
METHOD:PUBLISH
X-ORIGINAL-URL:https://saseafoodco.com
X-WR-CALDESC:Events for Saint Augustine Seafood Company | Local Northeast Florida Fast Casual Seafood in Downtown St. Augustine
REFRESH-INTERVAL;VALUE=DURATION:PT1H
X-Robots-Tag:noindex
X-PUBLISHED-TTL:PT1H
BEGIN:VTIMEZONE
TZID:UTC
BEGIN:STANDARD
TZOFFSETFROM:+0000
TZOFFSETTO:+0000
TZNAME:UTC
DTSTART:20170101T000000
END:STANDARD
END:VTIMEZONE
BEGIN:VEVENT
DTSTART;TZID=UTC:20180118T190000
DTEND;TZID=UTC:20180118T210000
DTSTAMP:20260419T190816
CREATED:20180118T004455Z
LAST-MODIFIED:20180118T004455Z
UID:10000838-1516302000-1516309200@saseafoodco.com
SUMMARY:Open Mic Night
DESCRIPTION:
URL:https://saseafoodco.com/event/open-mic-night-8/
LOCATION:FL
END:VEVENT
BEGIN:VEVENT
DTSTART;TZID=UTC:20180119T190000
DTEND;TZID=UTC:20180119T210000
DTSTAMP:20260419T190816
CREATED:20180118T010126Z
LAST-MODIFIED:20180118T010126Z
UID:10000839-1516388400-1516395600@saseafoodco.com
SUMMARY:Bridgewater Carter Davis Trio
DESCRIPTION:
URL:https://saseafoodco.com/event/bridgewater-carter-davis-trio-2/
LOCATION:FL
END:VEVENT
BEGIN:VEVENT
DTSTART;TZID=UTC:20180120T190000
DTEND;TZID=UTC:20180120T210000
DTSTAMP:20260419T190816
CREATED:20180118T010556Z
LAST-MODIFIED:20180118T010556Z
UID:10000841-1516474800-1516482000@saseafoodco.com
SUMMARY:Funk Butter
DESCRIPTION:
URL:https://saseafoodco.com/event/funk-butter-2/
LOCATION:FL
ATTACH;FMTTYPE=image/jpeg:https://saseafoodco.com/wp-content/uploads/2018/01/SKP_iPHONE_PICS_373.jpg
END:VEVENT
BEGIN:VEVENT
DTSTART;TZID=UTC:20180121T140000
DTEND;TZID=UTC:20180121T170000
DTSTAMP:20260419T190816
CREATED:20180118T010847Z
LAST-MODIFIED:20180118T010847Z
UID:10000849-1516543200-1516554000@saseafoodco.com
SUMMARY:Shayne Rammler Band
DESCRIPTION:
URL:https://saseafoodco.com/event/shayne-rammler-band-5/
LOCATION:FL
ATTACH;FMTTYPE=image/jpeg:https://saseafoodco.com/wp-content/uploads/2018/01/18155929_1766973256946499_8360937471017239512_o_d1450.jpg
END:VEVENT
BEGIN:VEVENT
DTSTART;TZID=UTC:20180125T190000
DTEND;TZID=UTC:20180125T210000
DTSTAMP:20260419T190816
CREATED:20180118T010927Z
LAST-MODIFIED:20180118T010927Z
UID:10000851-1516906800-1516914000@saseafoodco.com
SUMMARY:Open Mic Night
DESCRIPTION:
URL:https://saseafoodco.com/event/open-mic-night-9/
LOCATION:FL
END:VEVENT
BEGIN:VEVENT
DTSTART;VALUE=DATE:20180126
DTEND;VALUE=DATE:20180127
DTSTAMP:20260419T190816
CREATED:20180118T011125Z
LAST-MODIFIED:20180118T011125Z
UID:10000853-1516924800-1517011199@saseafoodco.com
SUMMARY:PRIVATE EVENT
DESCRIPTION:
URL:https://saseafoodco.com/event/private-event-6/
LOCATION:FL
END:VEVENT
BEGIN:VEVENT
DTSTART;TZID=UTC:20180127T190000
DTEND;TZID=UTC:20180127T210000
DTSTAMP:20260419T190816
CREATED:20180118T011303Z
LAST-MODIFIED:20180118T011303Z
UID:10000855-1517079600-1517086800@saseafoodco.com
SUMMARY:Paper City Hustlers
DESCRIPTION:
URL:https://saseafoodco.com/event/paper-city-hustlers-3/
LOCATION:FL
ATTACH;FMTTYPE=image/jpeg:https://saseafoodco.com/wp-content/uploads/2018/01/800x800_1421277391456-107308857363631264506462976201471329819208n.jpg
END:VEVENT
BEGIN:VEVENT
DTSTART;TZID=UTC:20180128T140000
DTEND;TZID=UTC:20180128T170000
DTSTAMP:20260419T190816
CREATED:20180118T012048Z
LAST-MODIFIED:20180118T012048Z
UID:10000869-1517148000-1517158800@saseafoodco.com
SUMMARY:The Mix
DESCRIPTION:
URL:https://saseafoodco.com/event/the-mix-3/
LOCATION:FL
ATTACH;FMTTYPE=image/jpeg:https://saseafoodco.com/wp-content/uploads/2018/01/unspecified-1.jpg
END:VEVENT
END:VCALENDAR