BEGIN:VCALENDAR
VERSION:2.0
PRODID:-//Saint Augustine Seafood Company | Local Northeast Florida Fast Casual Seafood in Downtown St. Augustine - ECPv6.15.12.2//NONSGML v1.0//EN
CALSCALE:GREGORIAN
METHOD:PUBLISH
X-WR-CALNAME:Saint Augustine Seafood Company | Local Northeast Florida Fast Casual Seafood in Downtown St. Augustine
X-ORIGINAL-URL:https://saseafoodco.com
X-WR-CALDESC:Events for Saint Augustine Seafood Company | Local Northeast Florida Fast Casual Seafood in Downtown St. Augustine
REFRESH-INTERVAL;VALUE=DURATION:PT1H
X-Robots-Tag:noindex
X-PUBLISHED-TTL:PT1H
BEGIN:VTIMEZONE
TZID:America/New_York
BEGIN:DAYLIGHT
TZOFFSETFROM:-0500
TZOFFSETTO:-0400
TZNAME:EDT
DTSTART:20160313T070000
END:DAYLIGHT
BEGIN:STANDARD
TZOFFSETFROM:-0400
TZOFFSETTO:-0500
TZNAME:EST
DTSTART:20161106T060000
END:STANDARD
BEGIN:DAYLIGHT
TZOFFSETFROM:-0500
TZOFFSETTO:-0400
TZNAME:EDT
DTSTART:20170312T070000
END:DAYLIGHT
BEGIN:STANDARD
TZOFFSETFROM:-0400
TZOFFSETTO:-0500
TZNAME:EST
DTSTART:20171105T060000
END:STANDARD
BEGIN:DAYLIGHT
TZOFFSETFROM:-0500
TZOFFSETTO:-0400
TZNAME:EDT
DTSTART:20180311T070000
END:DAYLIGHT
BEGIN:STANDARD
TZOFFSETFROM:-0400
TZOFFSETTO:-0500
TZNAME:EST
DTSTART:20181104T060000
END:STANDARD
END:VTIMEZONE
BEGIN:VEVENT
DTSTART;TZID=America/New_York:20171214T180000
DTEND;TZID=America/New_York:20171214T180000
DTSTAMP:20260420T022108
CREATED:20171110T035354Z
LAST-MODIFIED:20171110T035354Z
UID:10000822-1513274400-1513274400@saseafoodco.com
SUMMARY:Open Mic Night
DESCRIPTION:
URL:https://saseafoodco.com/event/open-mic-night-6/
LOCATION:FL
END:VEVENT
BEGIN:VEVENT
DTSTART;TZID=America/New_York:20171215T190000
DTEND;TZID=America/New_York:20171215T190000
DTSTAMP:20260420T022108
CREATED:20171110T035355Z
LAST-MODIFIED:20171110T035355Z
UID:10000823-1513364400-1513364400@saseafoodco.com
SUMMARY:The Wobbly Toms
DESCRIPTION:
URL:https://saseafoodco.com/event/the-wobbly-toms/
LOCATION:FL
END:VEVENT
BEGIN:VEVENT
DTSTART;TZID=America/New_York:20171216T190000
DTEND;TZID=America/New_York:20171216T190000
DTSTAMP:20260420T022108
CREATED:20171110T035356Z
LAST-MODIFIED:20171110T035356Z
UID:10000824-1513450800-1513450800@saseafoodco.com
SUMMARY:NDKA
DESCRIPTION:
URL:https://saseafoodco.com/event/ndka/
LOCATION:FL
END:VEVENT
BEGIN:VEVENT
DTSTART;TZID=America/New_York:20171217T180000
DTEND;TZID=America/New_York:20171217T180000
DTSTAMP:20260420T022108
CREATED:20171110T035356Z
LAST-MODIFIED:20171110T035356Z
UID:10000825-1513533600-1513533600@saseafoodco.com
SUMMARY:Aslyn's Christmas Show
DESCRIPTION:
URL:https://saseafoodco.com/event/aslyns-christmas-show/
LOCATION:FL
END:VEVENT
END:VCALENDAR