BEGIN:VCALENDAR
VERSION:2.0
PRODID:-//Saint Augustine Seafood Company | Local Northeast Florida Fast Casual Seafood in Downtown St. Augustine - ECPv6.15.12.2//NONSGML v1.0//EN
CALSCALE:GREGORIAN
METHOD:PUBLISH
X-WR-CALNAME:Saint Augustine Seafood Company | Local Northeast Florida Fast Casual Seafood in Downtown St. Augustine
X-ORIGINAL-URL:https://saseafoodco.com
X-WR-CALDESC:Events for Saint Augustine Seafood Company | Local Northeast Florida Fast Casual Seafood in Downtown St. Augustine
REFRESH-INTERVAL;VALUE=DURATION:PT1H
X-Robots-Tag:noindex
X-PUBLISHED-TTL:PT1H
BEGIN:VTIMEZONE
TZID:America/New_York
BEGIN:DAYLIGHT
TZOFFSETFROM:-0500
TZOFFSETTO:-0400
TZNAME:EDT
DTSTART:20160313T070000
END:DAYLIGHT
BEGIN:STANDARD
TZOFFSETFROM:-0400
TZOFFSETTO:-0500
TZNAME:EST
DTSTART:20161106T060000
END:STANDARD
BEGIN:DAYLIGHT
TZOFFSETFROM:-0500
TZOFFSETTO:-0400
TZNAME:EDT
DTSTART:20170312T070000
END:DAYLIGHT
BEGIN:STANDARD
TZOFFSETFROM:-0400
TZOFFSETTO:-0500
TZNAME:EST
DTSTART:20171105T060000
END:STANDARD
BEGIN:DAYLIGHT
TZOFFSETFROM:-0500
TZOFFSETTO:-0400
TZNAME:EDT
DTSTART:20180311T070000
END:DAYLIGHT
BEGIN:STANDARD
TZOFFSETFROM:-0400
TZOFFSETTO:-0500
TZNAME:EST
DTSTART:20181104T060000
END:STANDARD
END:VTIMEZONE
BEGIN:VTIMEZONE
TZID:UTC
BEGIN:STANDARD
TZOFFSETFROM:+0000
TZOFFSETTO:+0000
TZNAME:UTC
DTSTART:20160101T000000
END:STANDARD
END:VTIMEZONE
BEGIN:VEVENT
DTSTART;TZID=America/New_York:20171226T190000
DTEND;TZID=America/New_York:20171226T190000
DTSTAMP:20260420T022151
CREATED:20171110T035358Z
LAST-MODIFIED:20171110T035358Z
UID:10000830-1514314800-1514314800@saseafoodco.com
SUMMARY:Bridge Street Vibe
DESCRIPTION:
URL:https://saseafoodco.com/event/bridge-street-vibe/
LOCATION:FL
END:VEVENT
BEGIN:VEVENT
DTSTART;TZID=UTC:20171227T140000
DTEND;TZID=UTC:20171227T140000
DTSTAMP:20260420T022151
CREATED:20171110T035359Z
LAST-MODIFIED:20171110T035531Z
UID:10000831-1514383200-1514383200@saseafoodco.com
SUMMARY:Shayne Rammler
DESCRIPTION:
URL:https://saseafoodco.com/event/shayne-rammler-paper-city-hustlers/
LOCATION:FL
END:VEVENT
BEGIN:VEVENT
DTSTART;TZID=UTC:20171227T190000
DTEND;TZID=UTC:20171227T190000
DTSTAMP:20260420T022151
CREATED:20171110T035550Z
LAST-MODIFIED:20171110T035550Z
UID:10000837-1514401200-1514401200@saseafoodco.com
SUMMARY:Paper City Hustlers
DESCRIPTION:
URL:https://saseafoodco.com/event/paper-city-hustlers-2/
LOCATION:FL
END:VEVENT
BEGIN:VEVENT
DTSTART;TZID=UTC:20171228T140000
DTEND;TZID=UTC:20171228T140000
DTSTAMP:20260420T022151
CREATED:20171110T035359Z
LAST-MODIFIED:20171110T035450Z
UID:10000832-1514469600-1514469600@saseafoodco.com
SUMMARY:Shayne Rammler
DESCRIPTION:
URL:https://saseafoodco.com/event/shayne-rammler-monroeville/
LOCATION:FL
END:VEVENT
BEGIN:VEVENT
DTSTART;TZID=UTC:20171228T190000
DTEND;TZID=UTC:20171228T190000
DTSTAMP:20260420T022151
CREATED:20171110T035514Z
LAST-MODIFIED:20171110T035514Z
UID:10000836-1514487600-1514487600@saseafoodco.com
SUMMARY:Monroeville
DESCRIPTION:
URL:https://saseafoodco.com/event/monroeville-2/
LOCATION:FL
END:VEVENT
BEGIN:VEVENT
DTSTART;TZID=America/New_York:20171229T190000
DTEND;TZID=America/New_York:20171229T190000
DTSTAMP:20260420T022152
CREATED:20171110T035400Z
LAST-MODIFIED:20171110T035400Z
UID:10000833-1514574000-1514574000@saseafoodco.com
SUMMARY:Monroeville
DESCRIPTION:
URL:https://saseafoodco.com/event/monroeville/
LOCATION:FL
END:VEVENT
BEGIN:VEVENT
DTSTART;TZID=America/New_York:20171230T190000
DTEND;TZID=America/New_York:20171230T190000
DTSTAMP:20260420T022152
CREATED:20171110T035401Z
LAST-MODIFIED:20171110T035401Z
UID:10000834-1514660400-1514660400@saseafoodco.com
SUMMARY:The Brown Goose
DESCRIPTION:
URL:https://saseafoodco.com/event/the-brown-goose/
LOCATION:FL
END:VEVENT
BEGIN:VEVENT
DTSTART;TZID=America/New_York:20171231T000000
DTEND;TZID=America/New_York:20171231T000000
DTSTAMP:20260420T022152
CREATED:20171110T035401Z
LAST-MODIFIED:20171110T035401Z
UID:10000835-1514678400-1514678400@saseafoodco.com
SUMMARY:Music
DESCRIPTION:
URL:https://saseafoodco.com/event/music-2/
LOCATION:FL
END:VEVENT
END:VCALENDAR