BEGIN:VCALENDAR
VERSION:2.0
PRODID:-//Saint Augustine Seafood Company | Local Northeast Florida Fast Casual Seafood in Downtown St. Augustine - ECPv6.15.12.2//NONSGML v1.0//EN
CALSCALE:GREGORIAN
METHOD:PUBLISH
X-WR-CALNAME:Saint Augustine Seafood Company | Local Northeast Florida Fast Casual Seafood in Downtown St. Augustine
X-ORIGINAL-URL:https://saseafoodco.com
X-WR-CALDESC:Events for Saint Augustine Seafood Company | Local Northeast Florida Fast Casual Seafood in Downtown St. Augustine
REFRESH-INTERVAL;VALUE=DURATION:PT1H
X-Robots-Tag:noindex
X-PUBLISHED-TTL:PT1H
BEGIN:VTIMEZONE
TZID:UTC
BEGIN:STANDARD
TZOFFSETFROM:+0000
TZOFFSETTO:+0000
TZNAME:UTC
DTSTART:20170101T000000
END:STANDARD
END:VTIMEZONE
BEGIN:VEVENT
DTSTART;TZID=UTC:20180208T190000
DTEND;TZID=UTC:20180208T210000
DTSTAMP:20260419T142950
CREATED:20180118T015817Z
LAST-MODIFIED:20180118T015817Z
UID:10000750-1518116400-1518123600@saseafoodco.com
SUMMARY:Open Mic Night
DESCRIPTION:
URL:https://saseafoodco.com/event/open-mic-night-11/
LOCATION:FL
END:VEVENT
BEGIN:VEVENT
DTSTART;TZID=UTC:20180209T190000
DTEND;TZID=UTC:20180209T210000
DTSTAMP:20260419T142950
CREATED:20180118T020107Z
LAST-MODIFIED:20180118T020107Z
UID:10000751-1518202800-1518210000@saseafoodco.com
SUMMARY:JW Gilmore & The Blues Authority
DESCRIPTION:
URL:https://saseafoodco.com/event/jw-gilmore-the-blues-authority-2/
LOCATION:FL
ATTACH;FMTTYPE=image/jpeg:https://saseafoodco.com/wp-content/uploads/2018/01/St.Aug-band.jpg
END:VEVENT
BEGIN:VEVENT
DTSTART;TZID=UTC:20180210T190000
DTEND;TZID=UTC:20180210T210000
DTSTAMP:20260419T142950
CREATED:20180118T020331Z
LAST-MODIFIED:20180118T020331Z
UID:10000752-1518289200-1518296400@saseafoodco.com
SUMMARY:Paper City Hustlers
DESCRIPTION:
URL:https://saseafoodco.com/event/paper-city-hustlers-4/
LOCATION:FL
ATTACH;FMTTYPE=image/jpeg:https://saseafoodco.com/wp-content/uploads/2018/01/800x800_1421277391456-107308857363631264506462976201471329819208n.jpg
END:VEVENT
BEGIN:VEVENT
DTSTART;TZID=UTC:20180211T140000
DTEND;TZID=UTC:20180211T170000
DTSTAMP:20260419T142950
CREATED:20180118T020625Z
LAST-MODIFIED:20180118T020625Z
UID:10000753-1518357600-1518368400@saseafoodco.com
SUMMARY:Derek Trull & The Easystreet Band
DESCRIPTION:
URL:https://saseafoodco.com/event/derek-trull-the-easystreet-band/
LOCATION:FL
ATTACH;FMTTYPE=image/jpeg:https://saseafoodco.com/wp-content/uploads/2018/01/maxresdefault-1.jpg
END:VEVENT
END:VCALENDAR