BEGIN:VCALENDAR
VERSION:2.0
PRODID:-//Saint Augustine Seafood Company | Local Northeast Florida Fast Casual Seafood in Downtown St. Augustine - ECPv6.15.12.2//NONSGML v1.0//EN
CALSCALE:GREGORIAN
METHOD:PUBLISH
X-WR-CALNAME:Saint Augustine Seafood Company | Local Northeast Florida Fast Casual Seafood in Downtown St. Augustine
X-ORIGINAL-URL:https://saseafoodco.com
X-WR-CALDESC:Events for Saint Augustine Seafood Company | Local Northeast Florida Fast Casual Seafood in Downtown St. Augustine
REFRESH-INTERVAL;VALUE=DURATION:PT1H
X-Robots-Tag:noindex
X-PUBLISHED-TTL:PT1H
BEGIN:VTIMEZONE
TZID:UTC
BEGIN:STANDARD
TZOFFSETFROM:+0000
TZOFFSETTO:+0000
TZNAME:UTC
DTSTART:20170101T000000
END:STANDARD
END:VTIMEZONE
BEGIN:VEVENT
DTSTART;TZID=UTC:20180215T190000
DTEND;TZID=UTC:20180215T210000
DTSTAMP:20260419T160252
CREATED:20180118T020655Z
LAST-MODIFIED:20180118T020655Z
UID:10000754-1518721200-1518728400@saseafoodco.com
SUMMARY:Open Mic Night
DESCRIPTION:
URL:https://saseafoodco.com/event/open-mic-night-12/
LOCATION:FL
END:VEVENT
BEGIN:VEVENT
DTSTART;TZID=UTC:20180216T190000
DTEND;TZID=UTC:20180216T210000
DTSTAMP:20260419T160252
CREATED:20180118T020909Z
LAST-MODIFIED:20180118T020909Z
UID:10000755-1518807600-1518814800@saseafoodco.com
SUMMARY:The Mix
DESCRIPTION:
URL:https://saseafoodco.com/event/the-mix-4/
LOCATION:FL
ATTACH;FMTTYPE=image/jpeg:https://saseafoodco.com/wp-content/uploads/2018/01/unspecified-1.jpg
END:VEVENT
END:VCALENDAR