BEGIN:VCALENDAR
VERSION:2.0
PRODID:-//Saint Augustine Seafood Company | Local Northeast Florida Fast Casual Seafood in Downtown St. Augustine - ECPv6.15.12.2//NONSGML v1.0//EN
CALSCALE:GREGORIAN
METHOD:PUBLISH
X-WR-CALNAME:Saint Augustine Seafood Company | Local Northeast Florida Fast Casual Seafood in Downtown St. Augustine
X-ORIGINAL-URL:https://saseafoodco.com
X-WR-CALDESC:Events for Saint Augustine Seafood Company | Local Northeast Florida Fast Casual Seafood in Downtown St. Augustine
REFRESH-INTERVAL;VALUE=DURATION:PT1H
X-Robots-Tag:noindex
X-PUBLISHED-TTL:PT1H
BEGIN:VTIMEZONE
TZID:UTC
BEGIN:STANDARD
TZOFFSETFROM:+0000
TZOFFSETTO:+0000
TZNAME:UTC
DTSTART:20220101T000000
END:STANDARD
END:VTIMEZONE
BEGIN:VEVENT
DTSTART;TZID=UTC:20230120T190000
DTEND;TZID=UTC:20230120T220000
DTSTAMP:20260421T071002
CREATED:20230120T040939Z
LAST-MODIFIED:20230120T233824Z
UID:10001495-1674241200-1674252000@saseafoodco.com
SUMMARY:Circus – January 20
DESCRIPTION:Circus returns to the Oak on Friday January 20 \n7-10 PM \nFree Admission \nFamily Friendly
URL:https://saseafoodco.com/event/circus-january-20/
LOCATION:Colonial Oak Music Park\, 21 St George Street\, St Augustine\, FL\, 32084\, United States
ATTACH;FMTTYPE=image/jpeg:https://saseafoodco.com/wp-content/uploads/2023/01/298915084_497358062389479_3919224881059598127_n-Kuv5Rk.tmp_.jpg
GEO:29.8966433;-81.3132059
X-APPLE-STRUCTURED-LOCATION;VALUE=URI;X-ADDRESS=Colonial Oak Music Park 21 St George Street St Augustine FL 32084 United States;X-APPLE-RADIUS=500;X-TITLE=21 St George Street:geo:-81.3132059,29.8966433
END:VEVENT
BEGIN:VEVENT
DTSTART;TZID=UTC:20230121T190000
DTEND;TZID=UTC:20230121T220000
DTSTAMP:20260421T071002
CREATED:20230120T040939Z
LAST-MODIFIED:20230121T234050Z
UID:10001496-1674327600-1674338400@saseafoodco.com
SUMMARY:Blue Moon – January 21
DESCRIPTION:Don’t miss Blue Moon on Saturday January 21! \nA jazz\, R&B\, Funk\, & Soul Band from Orlando who loves to groove! \n7-10 PM \nFree admission \nFamily Friendly \n  \n 
URL:https://saseafoodco.com/event/blue-moon-january-21/
LOCATION:Colonial Oak Music Park\, 21 St George Street\, St Augustine\, FL\, 32084\, United States
ATTACH;FMTTYPE=image/jpeg:https://saseafoodco.com/wp-content/uploads/2023/01/311281360_10229020283115568_9113445096171617820_n-TIrsHZ.tmp_.jpg
GEO:29.8966433;-81.3132059
X-APPLE-STRUCTURED-LOCATION;VALUE=URI;X-ADDRESS=Colonial Oak Music Park 21 St George Street St Augustine FL 32084 United States;X-APPLE-RADIUS=500;X-TITLE=21 St George Street:geo:-81.3132059,29.8966433
END:VEVENT
BEGIN:VEVENT
DTSTART;TZID=UTC:20230122T110000
DTEND;TZID=UTC:20230122T210000
DTSTAMP:20260421T071002
CREATED:20230120T040941Z
LAST-MODIFIED:20230122T231126Z
UID:10001497-1674385200-1674421200@saseafoodco.com
SUMMARY:Sports Sunday – January 22
DESCRIPTION:Join us for sports all Sunday long on our 128″ video wall at the Oak!  Football season\, it’s NFL football.  Baseball Season\, it’s MLB.  Premier League Soccer matches\, Basketball too.  We have food and drinks for sale\, so all you need is your team spirit!
URL:https://saseafoodco.com/event/sports-sunday-january-22/
LOCATION:Colonial Oak Music Park\, 21 St George Street\, St Augustine\, FL\, 32084\, United States
ATTACH;FMTTYPE=image/jpeg:https://saseafoodco.com/wp-content/uploads/2023/01/IMG_0398-oN1MCg.tmp_.jpg
GEO:29.8966433;-81.3132059
X-APPLE-STRUCTURED-LOCATION;VALUE=URI;X-ADDRESS=Colonial Oak Music Park 21 St George Street St Augustine FL 32084 United States;X-APPLE-RADIUS=500;X-TITLE=21 St George Street:geo:-81.3132059,29.8966433
END:VEVENT
END:VCALENDAR