BEGIN:VCALENDAR
VERSION:2.0
PRODID:-//Saint Augustine Seafood Company | Local Northeast Florida Fast Casual Seafood in Downtown St. Augustine - ECPv6.15.12.2//NONSGML v1.0//EN
CALSCALE:GREGORIAN
METHOD:PUBLISH
X-ORIGINAL-URL:https://saseafoodco.com
X-WR-CALDESC:Events for Saint Augustine Seafood Company | Local Northeast Florida Fast Casual Seafood in Downtown St. Augustine
REFRESH-INTERVAL;VALUE=DURATION:PT1H
X-Robots-Tag:noindex
X-PUBLISHED-TTL:PT1H
BEGIN:VTIMEZONE
TZID:UTC
BEGIN:STANDARD
TZOFFSETFROM:+0000
TZOFFSETTO:+0000
TZNAME:UTC
DTSTART:20220101T000000
END:STANDARD
END:VTIMEZONE
BEGIN:VEVENT
DTSTART;TZID=UTC:20230208T193000
DTEND;TZID=UTC:20230208T210000
DTSTAMP:20260419T175310
CREATED:20230120T040959Z
LAST-MODIFIED:20230208T232326Z
UID:10001507-1675884600-1675890000@saseafoodco.com
SUMMARY:Improv Comedy Night – February 8
DESCRIPTION:Your First Coast Comedy veteran professionals have no plan and willingly dive headfirst into almost any challenge the audience will throw at them\, resulting in unforgettably hilarious moments. \n\nAnd it gets better! This show is for everyone! You can bring the whole family because these improvisers play smart… to ensure the show is always clean and never mean! \n\nPay-What-You-Will.\n\nAll seating is General Admission.\n\nNo ticket is better than any other. Just pay what you think the experience is worth.
URL:https://saseafoodco.com/event/improv-comedy-night-february-8/
LOCATION:Colonial Oak Music Park\, 21 St George Street\, St Augustine\, FL\, 32084\, United States
CATEGORIES:Improv Comedy Night
ATTACH;FMTTYPE=image/jpeg:https://saseafoodco.com/wp-content/uploads/2023/01/IMG_7651-kVGRT3.tmp_.jpg
GEO:29.8966433;-81.3132059
X-APPLE-STRUCTURED-LOCATION;VALUE=URI;X-ADDRESS=Colonial Oak Music Park 21 St George Street St Augustine FL 32084 United States;X-APPLE-RADIUS=500;X-TITLE=21 St George Street:geo:-81.3132059,29.8966433
END:VEVENT
BEGIN:VEVENT
DTSTART;TZID=UTC:20230209T190000
DTEND;TZID=UTC:20230209T220000
DTSTAMP:20260419T175310
CREATED:20230120T041000Z
LAST-MODIFIED:20230209T232523Z
UID:10001508-1675969200-1675980000@saseafoodco.com
SUMMARY:Oyster Bed Outlaws – February 9
DESCRIPTION:Oyster Bed Outlaws at the Oak from 7-10 PM \n 
URL:https://saseafoodco.com/event/tba-february-9/
LOCATION:Colonial Oak Music Park\, 21 St George Street\, St Augustine\, FL\, 32084\, United States
CATEGORIES:Country Night
ATTACH;FMTTYPE=image/png:https://saseafoodco.com/wp-content/uploads/2023/02/Screen-Shot-2022-03-25-at-4.14.07-PM-dmBio9.tmp_.png
GEO:29.8966433;-81.3132059
X-APPLE-STRUCTURED-LOCATION;VALUE=URI;X-ADDRESS=Colonial Oak Music Park 21 St George Street St Augustine FL 32084 United States;X-APPLE-RADIUS=500;X-TITLE=21 St George Street:geo:-81.3132059,29.8966433
END:VEVENT
BEGIN:VEVENT
DTSTART;TZID=UTC:20230210T190000
DTEND;TZID=UTC:20230210T220000
DTSTAMP:20260419T175310
CREATED:20230120T041000Z
LAST-MODIFIED:20230210T235335Z
UID:10001509-1676055600-1676066400@saseafoodco.com
SUMMARY:Bad Dog Mama – February 10
DESCRIPTION:Bad Dog Mama plays at the Oak February 10! \n7-10 PM \nFree Admission \nFamily Friendly
URL:https://saseafoodco.com/event/bad-dog-mama-february-10/
LOCATION:Colonial Oak Music Park\, 21 St George Street\, St Augustine\, FL\, 32084\, United States
ATTACH;FMTTYPE=image/jpeg:https://saseafoodco.com/wp-content/uploads/2023/01/SOL09132019-AslynandTheNaysayers-BadDogMama-Chemtrails-WobblyToms-AmyandSam-SpaceHeaters-27-md7pRR.tmp_.jpg
GEO:29.8966433;-81.3132059
X-APPLE-STRUCTURED-LOCATION;VALUE=URI;X-ADDRESS=Colonial Oak Music Park 21 St George Street St Augustine FL 32084 United States;X-APPLE-RADIUS=500;X-TITLE=21 St George Street:geo:-81.3132059,29.8966433
END:VEVENT
BEGIN:VEVENT
DTSTART;TZID=UTC:20230211T190000
DTEND;TZID=UTC:20230211T220000
DTSTAMP:20260419T175310
CREATED:20230120T041000Z
LAST-MODIFIED:20230211T233843Z
UID:10001510-1676142000-1676152800@saseafoodco.com
SUMMARY:Smokestack – February 11
DESCRIPTION:Smokestack takes stage at the Oak on February 11! \n7-10 PM \nFree admission \nFamily friendly
URL:https://saseafoodco.com/event/smokestack-february-11/
LOCATION:Colonial Oak Music Park\, 21 St George Street\, St Augustine\, FL\, 32084\, United States
ATTACH;FMTTYPE=image/jpeg:https://saseafoodco.com/wp-content/uploads/2023/01/smokestack-vlAO7w.tmp_-3AppDj.tmp_.jpg
GEO:29.8966433;-81.3132059
X-APPLE-STRUCTURED-LOCATION;VALUE=URI;X-ADDRESS=Colonial Oak Music Park 21 St George Street St Augustine FL 32084 United States;X-APPLE-RADIUS=500;X-TITLE=21 St George Street:geo:-81.3132059,29.8966433
END:VEVENT
BEGIN:VEVENT
DTSTART;TZID=UTC:20230212T110000
DTEND;TZID=UTC:20230212T210000
DTSTAMP:20260419T175310
CREATED:20230120T041001Z
LAST-MODIFIED:20230212T230825Z
UID:10001511-1676199600-1676235600@saseafoodco.com
SUMMARY:Sports Sunday – February 12
DESCRIPTION:Join us for sports all Sunday long on our 128″ video wall at the Oak!  Football season\, it’s NFL football.  Baseball Season\, it’s MLB.  Premier League Soccer matches\, Basketball too.  We have food and drinks for sale\, so all you need is your team spirit!
URL:https://saseafoodco.com/event/sports-sunday-february-12/
LOCATION:Colonial Oak Music Park\, 21 St George Street\, St Augustine\, FL\, 32084\, United States
ATTACH;FMTTYPE=image/jpeg:https://saseafoodco.com/wp-content/uploads/2023/01/IMG_0398-oN1MCg.tmp_.jpg
GEO:29.8966433;-81.3132059
X-APPLE-STRUCTURED-LOCATION;VALUE=URI;X-ADDRESS=Colonial Oak Music Park 21 St George Street St Augustine FL 32084 United States;X-APPLE-RADIUS=500;X-TITLE=21 St George Street:geo:-81.3132059,29.8966433
END:VEVENT
END:VCALENDAR