BEGIN:VCALENDAR
VERSION:2.0
PRODID:-//Saint Augustine Seafood Company | Local Northeast Florida Fast Casual Seafood in Downtown St. Augustine - ECPv6.15.12.2//NONSGML v1.0//EN
CALSCALE:GREGORIAN
METHOD:PUBLISH
X-WR-CALNAME:Saint Augustine Seafood Company | Local Northeast Florida Fast Casual Seafood in Downtown St. Augustine
X-ORIGINAL-URL:https://saseafoodco.com
X-WR-CALDESC:Events for Saint Augustine Seafood Company | Local Northeast Florida Fast Casual Seafood in Downtown St. Augustine
REFRESH-INTERVAL;VALUE=DURATION:PT1H
X-Robots-Tag:noindex
X-PUBLISHED-TTL:PT1H
BEGIN:VTIMEZONE
TZID:UTC
BEGIN:STANDARD
TZOFFSETFROM:+0000
TZOFFSETTO:+0000
TZNAME:UTC
DTSTART:20220101T000000
END:STANDARD
END:VTIMEZONE
BEGIN:VEVENT
DTSTART;TZID=UTC:20230222T193000
DTEND;TZID=UTC:20230222T210000
DTSTAMP:20260421T113316
CREATED:20230123T002333Z
LAST-MODIFIED:20230222T230913Z
UID:10001517-1677094200-1677099600@saseafoodco.com
SUMMARY:Improv Comedy Night – February 22
DESCRIPTION:Your First Coast Comedy veteran professionals have no plan and willingly dive headfirst into almost any challenge the audience will throw at them\, resulting in unforgettably hilarious moments. \n\nAnd it gets better! This show is for everyone! You can bring the whole family because these improvisers play smart… to ensure the show is always clean and never mean! \n\nPay-What-You-Will.\n\nAll seating is General Admission.\n\nNo ticket is better than any other. Just pay what you think the experience is worth.
URL:https://saseafoodco.com/event/improv-comedy-night-february-22/
LOCATION:Colonial Oak Music Park\, 21 St George Street\, St Augustine\, FL\, 32084\, United States
CATEGORIES:Improv Comedy Night
ATTACH;FMTTYPE=image/jpeg:https://saseafoodco.com/wp-content/uploads/2023/01/IMG_7651-kVGRT3.tmp_.jpg
GEO:29.8966433;-81.3132059
X-APPLE-STRUCTURED-LOCATION;VALUE=URI;X-ADDRESS=Colonial Oak Music Park 21 St George Street St Augustine FL 32084 United States;X-APPLE-RADIUS=500;X-TITLE=21 St George Street:geo:-81.3132059,29.8966433
END:VEVENT
BEGIN:VEVENT
DTSTART;TZID=UTC:20230223T190000
DTEND;TZID=UTC:20230223T220000
DTSTAMP:20260421T113316
CREATED:20230124T003842Z
LAST-MODIFIED:20230223T225324Z
UID:10001518-1677178800-1677189600@saseafoodco.com
SUMMARY:Playin’ Possum – February 23
DESCRIPTION:Country Night at the Oak featuring Playin’ Possum! \n7-10 PM \nFree Admission \nFamily Friendly
URL:https://saseafoodco.com/event/playin-possum-february-23/
LOCATION:Colonial Oak Music Park\, 21 St George Street\, St Augustine\, FL\, 32084\, United States
CATEGORIES:Country Night
ATTACH;FMTTYPE=image/jpeg:https://saseafoodco.com/wp-content/uploads/2023/01/Playin-Possum-copy-scaled-g7E6dk.tmp_.jpg
GEO:29.8966433;-81.3132059
X-APPLE-STRUCTURED-LOCATION;VALUE=URI;X-ADDRESS=Colonial Oak Music Park 21 St George Street St Augustine FL 32084 United States;X-APPLE-RADIUS=500;X-TITLE=21 St George Street:geo:-81.3132059,29.8966433
END:VEVENT
BEGIN:VEVENT
DTSTART;TZID=UTC:20230224T190000
DTEND;TZID=UTC:20230224T220000
DTSTAMP:20260421T113316
CREATED:20230125T005326Z
LAST-MODIFIED:20230224T233823Z
UID:10001519-1677265200-1677276000@saseafoodco.com
SUMMARY:One Good Ring – February 24
DESCRIPTION:Free live music by One Good Ring at the Oak on February 24 from 7-10 PM \n 
URL:https://saseafoodco.com/event/tba-february-24/
LOCATION:Colonial Oak Music Park\, 21 St George Street\, St Augustine\, FL\, 32084\, United States
ATTACH;FMTTYPE=image/jpeg:https://saseafoodco.com/wp-content/uploads/2023/02/one-good-ring-2-web-10x6-st-augustine-h7r51w.tmp_.jpg
GEO:29.8966433;-81.3132059
X-APPLE-STRUCTURED-LOCATION;VALUE=URI;X-ADDRESS=Colonial Oak Music Park 21 St George Street St Augustine FL 32084 United States;X-APPLE-RADIUS=500;X-TITLE=21 St George Street:geo:-81.3132059,29.8966433
END:VEVENT
BEGIN:VEVENT
DTSTART;TZID=UTC:20230225T190000
DTEND;TZID=UTC:20230225T220000
DTSTAMP:20260421T113316
CREATED:20230126T002329Z
LAST-MODIFIED:20230225T232323Z
UID:10001520-1677351600-1677362400@saseafoodco.com
SUMMARY:TBA! – February 25
DESCRIPTION:Free live music at the Oak on February 25 from 7-10 PM \nArtist TBA!
URL:https://saseafoodco.com/event/tba-february-25/
LOCATION:Colonial Oak Music Park\, 21 St George Street\, St Augustine\, FL\, 32084\, United States
ATTACH;FMTTYPE=image/png:https://saseafoodco.com/wp-content/uploads/2023/01/TBA-6FtR4l.tmp_.png
GEO:29.8966433;-81.3132059
X-APPLE-STRUCTURED-LOCATION;VALUE=URI;X-ADDRESS=Colonial Oak Music Park 21 St George Street St Augustine FL 32084 United States;X-APPLE-RADIUS=500;X-TITLE=21 St George Street:geo:-81.3132059,29.8966433
END:VEVENT
BEGIN:VEVENT
DTSTART;TZID=UTC:20230225T190000
DTEND;TZID=UTC:20230225T220000
DTSTAMP:20260421T113316
CREATED:20230215T193900Z
LAST-MODIFIED:20230225T232323Z
UID:10001527-1677351600-1677362400@saseafoodco.com
SUMMARY:Blue Moon – March 25
DESCRIPTION:Check out Blue Moon at the Colonial Oak Music Park on March 25 \n7-10 PM \nFree Admission \nFamily Friendly!
URL:https://saseafoodco.com/event/blue-moon-march-25/
LOCATION:Colonial Oak Music Park\, 21 St George Street\, St Augustine\, FL\, 32084\, United States
ATTACH;FMTTYPE=image/jpeg:https://saseafoodco.com/wp-content/uploads/2023/01/311281360_10229020283115568_9113445096171617820_n-TIrsHZ.tmp_.jpg
GEO:29.8966433;-81.3132059
X-APPLE-STRUCTURED-LOCATION;VALUE=URI;X-ADDRESS=Colonial Oak Music Park 21 St George Street St Augustine FL 32084 United States;X-APPLE-RADIUS=500;X-TITLE=21 St George Street:geo:-81.3132059,29.8966433
END:VEVENT
BEGIN:VEVENT
DTSTART;TZID=UTC:20230226T110000
DTEND;TZID=UTC:20230226T210000
DTSTAMP:20260421T113316
CREATED:20230127T003836Z
LAST-MODIFIED:20230226T225330Z
UID:10001521-1677409200-1677445200@saseafoodco.com
SUMMARY:Sports Sunday – February 26
DESCRIPTION:Join us for sports all Sunday long on our 128″ video wall at the Oak!  Football season\, it’s NFL football.  Baseball Season\, it’s MLB.  Premier League Soccer matches\, Basketball too.  We have food and drinks for sale\, so all you need is your team spirit!
URL:https://saseafoodco.com/event/sports-sunday-february-26/
LOCATION:Colonial Oak Music Park\, 21 St George Street\, St Augustine\, FL\, 32084\, United States
ATTACH;FMTTYPE=image/jpeg:https://saseafoodco.com/wp-content/uploads/2023/01/IMG_0398-oN1MCg.tmp_.jpg
GEO:29.8966433;-81.3132059
X-APPLE-STRUCTURED-LOCATION;VALUE=URI;X-ADDRESS=Colonial Oak Music Park 21 St George Street St Augustine FL 32084 United States;X-APPLE-RADIUS=500;X-TITLE=21 St George Street:geo:-81.3132059,29.8966433
END:VEVENT
END:VCALENDAR