BEGIN:VCALENDAR
VERSION:2.0
PRODID:-//Saint Augustine Seafood Company | Local Northeast Florida Fast Casual Seafood in Downtown St. Augustine - ECPv6.15.12.2//NONSGML v1.0//EN
CALSCALE:GREGORIAN
METHOD:PUBLISH
X-ORIGINAL-URL:https://saseafoodco.com
X-WR-CALDESC:Events for Saint Augustine Seafood Company | Local Northeast Florida Fast Casual Seafood in Downtown St. Augustine
REFRESH-INTERVAL;VALUE=DURATION:PT1H
X-Robots-Tag:noindex
X-PUBLISHED-TTL:PT1H
BEGIN:VTIMEZONE
TZID:UTC
BEGIN:STANDARD
TZOFFSETFROM:+0000
TZOFFSETTO:+0000
TZNAME:UTC
DTSTART:20220101T000000
END:STANDARD
END:VTIMEZONE
BEGIN:VEVENT
DTSTART;TZID=UTC:20230503T193000
DTEND;TZID=UTC:20230503T210000
DTSTAMP:20260423T092835
CREATED:20230403T002329Z
LAST-MODIFIED:20230503T233920Z
UID:10001572-1683142200-1683147600@saseafoodco.com
SUMMARY:Improv Comedy Night – May 3
DESCRIPTION:Your First Coast Comedy veteran professionals have no plan and willingly dive headfirst into almost any challenge the audience will throw at them\, resulting in unforgettably hilarious moments. \n\nAnd it gets better! This show is for everyone! You can bring the whole family because these improvisers play smart… to ensure the show is always clean and never mean! \n\nPay-What-You-Will.\n\nAll seating is General Admission.\n\nNo ticket is better than any other. Just pay what you think the experience is worth.
URL:https://saseafoodco.com/event/improv-comedy-night-may-3/
LOCATION:Colonial Oak Music Park\, 21 St George Street\, St Augustine\, FL\, 32084\, United States
ATTACH;FMTTYPE=image/jpeg:https://saseafoodco.com/wp-content/uploads/2023/01/IMG_7651-kVGRT3.tmp_.jpg
GEO:29.8966433;-81.3132059
X-APPLE-STRUCTURED-LOCATION;VALUE=URI;X-ADDRESS=Colonial Oak Music Park 21 St George Street St Augustine FL 32084 United States;X-APPLE-RADIUS=500;X-TITLE=21 St George Street:geo:-81.3132059,29.8966433
END:VEVENT
BEGIN:VEVENT
DTSTART;TZID=UTC:20230504T190000
DTEND;TZID=UTC:20230504T220000
DTSTAMP:20260423T092835
CREATED:20230404T005406Z
LAST-MODIFIED:20230504T230826Z
UID:10001573-1683226800-1683237600@saseafoodco.com
SUMMARY:Rio Grande – May 4
DESCRIPTION:Thursday is Country Night at the Colonial Oak! Stop by to catch this performance by Rio Grande! \n7-10 PM \nFree Admission \nFamily Friendly
URL:https://saseafoodco.com/event/rio-grande-may-4/
LOCATION:Colonial Oak Music Park\, 21 St George Street\, St Augustine\, FL\, 32084\, United States
ATTACH;FMTTYPE=image/jpeg:https://saseafoodco.com/wp-content/uploads/2023/04/RIO-GRANDE-scaled-706O7j.tmp_.jpg
GEO:29.8966433;-81.3132059
X-APPLE-STRUCTURED-LOCATION;VALUE=URI;X-ADDRESS=Colonial Oak Music Park 21 St George Street St Augustine FL 32084 United States;X-APPLE-RADIUS=500;X-TITLE=21 St George Street:geo:-81.3132059,29.8966433
END:VEVENT
BEGIN:VEVENT
DTSTART;TZID=UTC:20230505T190000
DTEND;TZID=UTC:20230505T220000
DTSTAMP:20260423T092835
CREATED:20230405T000847Z
LAST-MODIFIED:20230505T232330Z
UID:10001574-1683313200-1683324000@saseafoodco.com
SUMMARY:Earth Tonez – May 5
DESCRIPTION:Earth Tonez returns to the Oak stage on Friday May 5! \n7-10 PM \nFree Admission \nFamily Friendly
URL:https://saseafoodco.com/event/earth-tonez-may-5/
LOCATION:Colonial Oak Music Park\, 21 St George Street\, St Augustine\, FL\, 32084\, United States
ATTACH;FMTTYPE=image/jpeg:https://saseafoodco.com/wp-content/uploads/2023/04/292589480_464823515647467_2142075905447016087_n-8nRhHS.tmp_.jpg
GEO:29.8966433;-81.3132059
X-APPLE-STRUCTURED-LOCATION;VALUE=URI;X-ADDRESS=Colonial Oak Music Park 21 St George Street St Augustine FL 32084 United States;X-APPLE-RADIUS=500;X-TITLE=21 St George Street:geo:-81.3132059,29.8966433
END:VEVENT
BEGIN:VEVENT
DTSTART;TZID=UTC:20230506T190000
DTEND;TZID=UTC:20230506T220000
DTSTAMP:20260423T092835
CREATED:20230406T004103Z
LAST-MODIFIED:20230506T235453Z
UID:10001575-1683399600-1683410400@saseafoodco.com
SUMMARY:Circus – May 6
DESCRIPTION:Circus at the Oak from 7-10 PM! \n 
URL:https://saseafoodco.com/event/tba-may-6/
LOCATION:Colonial Oak Music Park\, 21 St George Street\, St Augustine\, FL\, 32084\, United States
ATTACH;FMTTYPE=image/jpeg:https://saseafoodco.com/wp-content/uploads/2023/04/Circus-1-VF9H8n.tmp_.jpg
GEO:29.8966433;-81.3132059
X-APPLE-STRUCTURED-LOCATION;VALUE=URI;X-ADDRESS=Colonial Oak Music Park 21 St George Street St Augustine FL 32084 United States;X-APPLE-RADIUS=500;X-TITLE=21 St George Street:geo:-81.3132059,29.8966433
END:VEVENT
BEGIN:VEVENT
DTSTART;TZID=UTC:20230507T140000
DTEND;TZID=UTC:20230507T170000
DTSTAMP:20260423T092835
CREATED:20230407T003828Z
LAST-MODIFIED:20230507T233933Z
UID:10001577-1683468000-1683478800@saseafoodco.com
SUMMARY:Claire Vandiver – May 7
DESCRIPTION:Sunday May 7th brings Claire Vandiver to the Oak! \n2-5 PM \nFree Admission \nFamily Friendly
URL:https://saseafoodco.com/event/claire-vandiver-may-7/
LOCATION:Colonial Oak Music Park\, 21 St George Street\, St Augustine\, FL\, 32084\, United States
ATTACH;FMTTYPE=image/jpeg:https://saseafoodco.com/wp-content/uploads/2023/04/280800742_685895236188872_3728443962240283054_n-IQYRgw.tmp_.jpg
GEO:29.8966433;-81.3132059
X-APPLE-STRUCTURED-LOCATION;VALUE=URI;X-ADDRESS=Colonial Oak Music Park 21 St George Street St Augustine FL 32084 United States;X-APPLE-RADIUS=500;X-TITLE=21 St George Street:geo:-81.3132059,29.8966433
END:VEVENT
END:VCALENDAR