BEGIN:VCALENDAR
VERSION:2.0
PRODID:-//Saint Augustine Seafood Company | Local Northeast Florida Fast Casual Seafood in Downtown St. Augustine - ECPv6.15.12.2//NONSGML v1.0//EN
CALSCALE:GREGORIAN
METHOD:PUBLISH
X-ORIGINAL-URL:https://saseafoodco.com
X-WR-CALDESC:Events for Saint Augustine Seafood Company | Local Northeast Florida Fast Casual Seafood in Downtown St. Augustine
REFRESH-INTERVAL;VALUE=DURATION:PT1H
X-Robots-Tag:noindex
X-PUBLISHED-TTL:PT1H
BEGIN:VTIMEZONE
TZID:UTC
BEGIN:STANDARD
TZOFFSETFROM:+0000
TZOFFSETTO:+0000
TZNAME:UTC
DTSTART:20220101T000000
END:STANDARD
END:VTIMEZONE
BEGIN:VEVENT
DTSTART;TZID=UTC:20230621T193000
DTEND;TZID=UTC:20230621T210000
DTSTAMP:20260425T095304
CREATED:20230522T005332Z
LAST-MODIFIED:20230621T235401Z
UID:10001617-1687375800-1687381200@saseafoodco.com
SUMMARY:Improv Comedy Night – June 21
DESCRIPTION:Your First Coast Comedy veteran professionals have no plan and willingly dive headfirst into almost any challenge the audience will throw at them\, resulting in unforgettably hilarious moments. \n\nAnd it gets better! This show is for everyone! You can bring the whole family because these improvisers play smart… to ensure the show is always clean and never mean! \n\nPay-What-You-Will.\n\nAll seating is General Admission.\n\nNo ticket is better than any other. Just pay what you think the experience is worth.
URL:https://saseafoodco.com/event/improv-comedy-night-june-21/
LOCATION:Colonial Oak Music Park\, 21 St George Street\, St Augustine\, FL\, 32084\, United States
ATTACH;FMTTYPE=image/jpeg:https://saseafoodco.com/wp-content/uploads/2023/01/IMG_7651-kVGRT3.tmp_.jpg
GEO:29.8966433;-81.3132059
X-APPLE-STRUCTURED-LOCATION;VALUE=URI;X-ADDRESS=Colonial Oak Music Park 21 St George Street St Augustine FL 32084 United States;X-APPLE-RADIUS=500;X-TITLE=21 St George Street:geo:-81.3132059,29.8966433
END:VEVENT
BEGIN:VEVENT
DTSTART;TZID=UTC:20230622T190000
DTEND;TZID=UTC:20230622T220000
DTSTAMP:20260425T095304
CREATED:20230523T005345Z
LAST-MODIFIED:20230622T232326Z
UID:10001618-1687460400-1687471200@saseafoodco.com
SUMMARY:Whiskey Run – June 22
DESCRIPTION:Whiskey Run – a country band based in Augusta\, GA heads to the Oak on June 22! \n\n7-10 PM\nFree Admission\nFamily Friendly
URL:https://saseafoodco.com/event/whiskey-run-june-22/
LOCATION:Colonial Oak Music Park\, 21 St George Street\, St Augustine\, FL\, 32084\, United States
ATTACH;FMTTYPE=image/jpeg:https://saseafoodco.com/wp-content/uploads/2023/05/336900595_1252203682356183_2003912416465499072_n-1-MwLEo6.tmp_.jpg
GEO:29.8966433;-81.3132059
X-APPLE-STRUCTURED-LOCATION;VALUE=URI;X-ADDRESS=Colonial Oak Music Park 21 St George Street St Augustine FL 32084 United States;X-APPLE-RADIUS=500;X-TITLE=21 St George Street:geo:-81.3132059,29.8966433
END:VEVENT
BEGIN:VEVENT
DTSTART;TZID=UTC:20230623T190000
DTEND;TZID=UTC:20230623T220000
DTSTAMP:20260425T095304
CREATED:20230524T003826Z
LAST-MODIFIED:20230623T230824Z
UID:10001619-1687546800-1687557600@saseafoodco.com
SUMMARY:Circus – June 23
DESCRIPTION:Catch Circus on June 23 at the Oak! \n7-10 PM \nFree admission \nFamily friendly
URL:https://saseafoodco.com/event/circus-june-23/
LOCATION:Colonial Oak Music Park\, 21 St George Street\, St Augustine\, FL\, 32084\, United States
ATTACH;FMTTYPE=image/jpeg:https://saseafoodco.com/wp-content/uploads/2023/04/Circus-1-VF9H8n.tmp_.jpg
GEO:29.8966433;-81.3132059
X-APPLE-STRUCTURED-LOCATION;VALUE=URI;X-ADDRESS=Colonial Oak Music Park 21 St George Street St Augustine FL 32084 United States;X-APPLE-RADIUS=500;X-TITLE=21 St George Street:geo:-81.3132059,29.8966433
END:VEVENT
BEGIN:VEVENT
DTSTART;TZID=UTC:20230624T190000
DTEND;TZID=UTC:20230624T220000
DTSTAMP:20260425T095304
CREATED:20230525T005324Z
LAST-MODIFIED:20230624T230823Z
UID:10001620-1687633200-1687644000@saseafoodco.com
SUMMARY:Groove Coalition – June 24
DESCRIPTION:Catch the Groove Coalition on June 24 at the Oak! \n7-10 PM \nFree admission \nFamily friendly
URL:https://saseafoodco.com/event/groove-coalition-june-24/
LOCATION:Colonial Oak Music Park\, 21 St George Street\, St Augustine\, FL\, 32084\, United States
ATTACH;FMTTYPE=image/png:https://saseafoodco.com/wp-content/uploads/2023/01/Groove-Coalition-IzkOmF.tmp_.png
GEO:29.8966433;-81.3132059
X-APPLE-STRUCTURED-LOCATION;VALUE=URI;X-ADDRESS=Colonial Oak Music Park 21 St George Street St Augustine FL 32084 United States;X-APPLE-RADIUS=500;X-TITLE=21 St George Street:geo:-81.3132059,29.8966433
END:VEVENT
BEGIN:VEVENT
DTSTART;TZID=UTC:20230625T140000
DTEND;TZID=UTC:20230625T170000
DTSTAMP:20260425T095304
CREATED:20230526T003825Z
LAST-MODIFIED:20230625T230819Z
UID:10001621-1687701600-1687712400@saseafoodco.com
SUMMARY:Kyra Livingston – June 25
DESCRIPTION:Enjoy Sunday afternoon music at the Oak by Kyra Livingston \n2-5 PM \nFree Admission \nFamily Friendly
URL:https://saseafoodco.com/event/kyra-livingston-june-25/
LOCATION:Colonial Oak Music Park\, 21 St George Street\, St Augustine\, FL\, 32084\, United States
ATTACH;FMTTYPE=image/png:https://saseafoodco.com/wp-content/uploads/2023/03/Screen-Shot-2023-03-28-at-10.23.30-AM-Bt2xnm.tmp_.png
GEO:29.8966433;-81.3132059
X-APPLE-STRUCTURED-LOCATION;VALUE=URI;X-ADDRESS=Colonial Oak Music Park 21 St George Street St Augustine FL 32084 United States;X-APPLE-RADIUS=500;X-TITLE=21 St George Street:geo:-81.3132059,29.8966433
END:VEVENT
END:VCALENDAR