BEGIN:VCALENDAR
VERSION:2.0
PRODID:-//Saint Augustine Seafood Company | Local Northeast Florida Fast Casual Seafood in Downtown St. Augustine - ECPv6.15.12.2//NONSGML v1.0//EN
CALSCALE:GREGORIAN
METHOD:PUBLISH
X-ORIGINAL-URL:https://saseafoodco.com
X-WR-CALDESC:Events for Saint Augustine Seafood Company | Local Northeast Florida Fast Casual Seafood in Downtown St. Augustine
REFRESH-INTERVAL;VALUE=DURATION:PT1H
X-Robots-Tag:noindex
X-PUBLISHED-TTL:PT1H
BEGIN:VTIMEZONE
TZID:UTC
BEGIN:STANDARD
TZOFFSETFROM:+0000
TZOFFSETTO:+0000
TZNAME:UTC
DTSTART:20230101T000000
END:STANDARD
END:VTIMEZONE
BEGIN:VEVENT
DTSTART;TZID=UTC:20241211T193000
DTEND;TZID=UTC:20241211T210000
DTSTAMP:20260420T013422
CREATED:20241202T204143Z
LAST-MODIFIED:20241211T231132Z
UID:10002139-1733945400-1733950800@saseafoodco.com
SUMMARY:Comedy Night – December 11
DESCRIPTION:Your First Coast Comedy veteran professionals have no plan and willingly dive headfirst into almost any challenge the audience will throw at them\, resulting in unforgettably hilarious moments. \n\nAnd it gets better! This show is for everyone! You can bring the whole family because these improvisers play smart… to ensure the show is always clean and never mean! \n\nPay-What-You-Will.\n\nAll seating is General Admission.\n\nNo ticket is better than any other. Just pay what you think the experience is worth
URL:https://saseafoodco.com/event/comedy-night-december-11/
LOCATION:Colonial Oak Music Park\, 21 St George Street\, St Augustine\, FL\, 32084\, United States
CATEGORIES:Improv Comedy Night
ATTACH;FMTTYPE=image/jpeg:https://saseafoodco.com/wp-content/uploads/2023/01/IMG_7651-kVGRT3.tmp_.jpg
GEO:29.8966433;-81.3132059
X-APPLE-STRUCTURED-LOCATION;VALUE=URI;X-ADDRESS=Colonial Oak Music Park 21 St George Street St Augustine FL 32084 United States;X-APPLE-RADIUS=500;X-TITLE=21 St George Street:geo:-81.3132059,29.8966433
END:VEVENT
BEGIN:VEVENT
DTSTART;TZID=UTC:20241212T190000
DTEND;TZID=UTC:20241212T220000
DTSTAMP:20260420T013422
CREATED:20241202T204143Z
LAST-MODIFIED:20241212T232632Z
UID:10002140-1734030000-1734040800@saseafoodco.com
SUMMARY:Country Night w/ Cliff Dorsey – December 12
DESCRIPTION:Thursday means one thing at the Oak — Country Night!\nCome see us with Cliff Dorsey \n\nFREE show\n7-10 PM\nFun for all ages\nFriendly pups welcome\nMultiple bars stocked with craft beers\, St. Augustine Distillery Products\, & more!\nOn site dining from St. Augustine Seafood Company!\n\n\n\nClick here for Instagram!\nClick here for Facebook!
URL:https://saseafoodco.com/event/country-night-w-cliff-dorsey-december-12/
LOCATION:Colonial Oak Music Park\, 21 St George Street\, St Augustine\, FL\, 32084\, United States
ATTACH;FMTTYPE=image/jpeg:https://saseafoodco.com/wp-content/uploads/2024/12/Cliff-Dorsey-copy-MjDHKS.tmp_.jpg
GEO:29.8966433;-81.3132059
X-APPLE-STRUCTURED-LOCATION;VALUE=URI;X-ADDRESS=Colonial Oak Music Park 21 St George Street St Augustine FL 32084 United States;X-APPLE-RADIUS=500;X-TITLE=21 St George Street:geo:-81.3132059,29.8966433
END:VEVENT
BEGIN:VEVENT
DTSTART;TZID=UTC:20241213T190000
DTEND;TZID=UTC:20241213T220000
DTSTAMP:20260420T013422
CREATED:20241202T214132Z
LAST-MODIFIED:20241202T214132Z
UID:10002147-1734116400-1734127200@saseafoodco.com
SUMMARY:Smokestack – December 13
DESCRIPTION:Rock out with Smokestack and their blues\, southern rock and groove-oriented styles!\n\nFREE show\n7-10 PM\nFun for all ages\nFriendly pups welcome\nMultiple bars stocked with craft beers\, St. Augustine Distillery Products\, & more!\nOn site dining from St. Augustine Seafood Company!\n\n\n\nClick here for Instagram!\nClick here for Facebook!
URL:https://saseafoodco.com/event/smokestack-december-13/
LOCATION:Colonial Oak Music Park\, 21 St George Street\, St Augustine\, FL\, 32084\, United States
ATTACH;FMTTYPE=image/png:https://saseafoodco.com/wp-content/uploads/2024/10/smokestack-PNG-fImR1O.tmp_.png
GEO:29.8966433;-81.3132059
X-APPLE-STRUCTURED-LOCATION;VALUE=URI;X-ADDRESS=Colonial Oak Music Park 21 St George Street St Augustine FL 32084 United States;X-APPLE-RADIUS=500;X-TITLE=21 St George Street:geo:-81.3132059,29.8966433
END:VEVENT
BEGIN:VEVENT
DTSTART;TZID=UTC:20241213T190000
DTEND;TZID=UTC:20241213T220000
DTSTAMP:20260420T013422
CREATED:20241202T214132Z
LAST-MODIFIED:20241213T235629Z
UID:10002149-1734116400-1734127200@saseafoodco.com
SUMMARY:Smokestack – December 13
DESCRIPTION:Rock out with Smokestack and their blues\, southern rock and groove-oriented styles!\n\nFREE show\n7-10 PM\nFun for all ages\nFriendly pups welcome\nMultiple bars stocked with craft beers\, St. Augustine Distillery Products\, & more!\nOn site dining from St. Augustine Seafood Company!\n\n\n\nClick here for Instagram!\nClick here for Facebook!
URL:https://saseafoodco.com/event/smokestack-december-13-2/
LOCATION:Colonial Oak Music Park\, 21 St George Street\, St Augustine\, FL\, 32084\, United States
ATTACH;FMTTYPE=image/png:https://saseafoodco.com/wp-content/uploads/2024/10/smokestack-PNG-fImR1O.tmp_.png
GEO:29.8966433;-81.3132059
X-APPLE-STRUCTURED-LOCATION;VALUE=URI;X-ADDRESS=Colonial Oak Music Park 21 St George Street St Augustine FL 32084 United States;X-APPLE-RADIUS=500;X-TITLE=21 St George Street:geo:-81.3132059,29.8966433
END:VEVENT
BEGIN:VEVENT
DTSTART;TZID=UTC:20241214T190000
DTEND;TZID=UTC:20241214T220000
DTSTAMP:20260420T013422
CREATED:20241202T214132Z
LAST-MODIFIED:20241202T214132Z
UID:10002148-1734202800-1734213600@saseafoodco.com
SUMMARY:Baba Caiman – December 14
DESCRIPTION:Latin Fusion band\, Baba Caiman returns to the Oak on December 14th!\n\nFREE show\n7-10 PM\nFun for all ages\nFriendly pups welcome\nMultiple bars stocked with craft beers\, St. Augustine Distillery Products\, & more!\nOn site dining from St. Augustine Seafood Company!\n\n\n\nClick here for Instagram!\nClick here for Facebook!
URL:https://saseafoodco.com/event/baba-caiman-december-14-2/
LOCATION:Colonial Oak Music Park\, 21 St George Street\, St Augustine\, FL\, 32084\, United States
ATTACH;FMTTYPE=image/png:https://saseafoodco.com/wp-content/uploads/2024/10/New-BabaCaiman-PNG-WsXLSM.tmp_.png
GEO:29.8966433;-81.3132059
X-APPLE-STRUCTURED-LOCATION;VALUE=URI;X-ADDRESS=Colonial Oak Music Park 21 St George Street St Augustine FL 32084 United States;X-APPLE-RADIUS=500;X-TITLE=21 St George Street:geo:-81.3132059,29.8966433
END:VEVENT
BEGIN:VEVENT
DTSTART;TZID=UTC:20241214T190000
DTEND;TZID=UTC:20241214T220000
DTSTAMP:20260420T013422
CREATED:20241202T214132Z
LAST-MODIFIED:20241214T232631Z
UID:10002150-1734202800-1734213600@saseafoodco.com
SUMMARY:Baba Caiman – December 14
DESCRIPTION:Latin Fusion band\, Baba Caiman returns to the Oak on December 14th!\n\nFREE show\n7-10 PM\nFun for all ages\nFriendly pups welcome\nMultiple bars stocked with craft beers\, St. Augustine Distillery Products\, & more!\nOn site dining from St. Augustine Seafood Company!\n\n\n\nClick here for Instagram!\nClick here for Facebook!
URL:https://saseafoodco.com/event/baba-caiman-december-14/
LOCATION:Colonial Oak Music Park\, 21 St George Street\, St Augustine\, FL\, 32084\, United States
ATTACH;FMTTYPE=image/png:https://saseafoodco.com/wp-content/uploads/2024/10/New-BabaCaiman-PNG-WsXLSM.tmp_.png
GEO:29.8966433;-81.3132059
X-APPLE-STRUCTURED-LOCATION;VALUE=URI;X-ADDRESS=Colonial Oak Music Park 21 St George Street St Augustine FL 32084 United States;X-APPLE-RADIUS=500;X-TITLE=21 St George Street:geo:-81.3132059,29.8966433
END:VEVENT
BEGIN:VEVENT
DTSTART;TZID=UTC:20241215T110000
DTEND;TZID=UTC:20241215T190000
DTSTAMP:20260420T013422
CREATED:20241202T204144Z
LAST-MODIFIED:20241215T232628Z
UID:10002141-1734260400-1734289200@saseafoodco.com
SUMMARY:Sports Sunday – December 15
DESCRIPTION:Join us for sports all Sunday long on our 128″ video wall at the Oak!  Football season\, it’s NFL football.  Baseball Season\, it’s MLB.  Premier League Soccer matches\, Basketball too.  We have food and drinks for sale\, so all you need is your team spirit! \n  \n\nClick here for Instagram!\nClick here for Facebook!
URL:https://saseafoodco.com/event/sports-sunday-december-15-2/
LOCATION:Colonial Oak Music Park\, 21 St George Street\, St Augustine\, FL\, 32084\, United States
ATTACH;FMTTYPE=image/png:https://saseafoodco.com/wp-content/uploads/2023/09/Screen-Shot-2019-12-18-at-2.08.20-PM-QnKPrA.tmp_-OAaAMk.tmp_.png
GEO:29.8966433;-81.3132059
X-APPLE-STRUCTURED-LOCATION;VALUE=URI;X-ADDRESS=Colonial Oak Music Park 21 St George Street St Augustine FL 32084 United States;X-APPLE-RADIUS=500;X-TITLE=21 St George Street:geo:-81.3132059,29.8966433
END:VEVENT
BEGIN:VEVENT
DTSTART;TZID=UTC:20241215T110000
DTEND;TZID=UTC:20241215T190000
DTSTAMP:20260420T013422
CREATED:20241202T204144Z
LAST-MODIFIED:20241202T204144Z
UID:10002145-1734260400-1734289200@saseafoodco.com
SUMMARY:Sports Sunday – December 15
DESCRIPTION:Join us for sports all Sunday long on our 128″ video wall at the Oak!  Football season\, it’s NFL football.  Baseball Season\, it’s MLB.  Premier League Soccer matches\, Basketball too.  We have food and drinks for sale\, so all you need is your team spirit! \n  \n\nClick here for Instagram!\nClick here for Facebook!
URL:https://saseafoodco.com/event/sports-sunday-december-15/
LOCATION:Colonial Oak Music Park\, 21 St George Street\, St Augustine\, FL\, 32084\, United States
ATTACH;FMTTYPE=image/png:https://saseafoodco.com/wp-content/uploads/2023/09/Screen-Shot-2019-12-18-at-2.08.20-PM-QnKPrA.tmp_-OAaAMk.tmp_.png
GEO:29.8966433;-81.3132059
X-APPLE-STRUCTURED-LOCATION;VALUE=URI;X-ADDRESS=Colonial Oak Music Park 21 St George Street St Augustine FL 32084 United States;X-APPLE-RADIUS=500;X-TITLE=21 St George Street:geo:-81.3132059,29.8966433
END:VEVENT
END:VCALENDAR