BEGIN:VCALENDAR
VERSION:2.0
PRODID:-//Saint Augustine Seafood Company | Local Northeast Florida Fast Casual Seafood in Downtown St. Augustine - ECPv6.15.12.2//NONSGML v1.0//EN
CALSCALE:GREGORIAN
METHOD:PUBLISH
X-ORIGINAL-URL:https://saseafoodco.com
X-WR-CALDESC:Events for Saint Augustine Seafood Company | Local Northeast Florida Fast Casual Seafood in Downtown St. Augustine
REFRESH-INTERVAL;VALUE=DURATION:PT1H
X-Robots-Tag:noindex
X-PUBLISHED-TTL:PT1H
BEGIN:VTIMEZONE
TZID:UTC
BEGIN:STANDARD
TZOFFSETFROM:+0000
TZOFFSETTO:+0000
TZNAME:UTC
DTSTART:20230101T000000
END:STANDARD
END:VTIMEZONE
BEGIN:VEVENT
DTSTART;TZID=UTC:20241223T140000
DTEND;TZID=UTC:20241223T210000
DTSTAMP:20260420T013346
CREATED:20241204T152638Z
LAST-MODIFIED:20241223T231128Z
UID:10002154-1734962400-1734987600@saseafoodco.com
SUMMARY:Sam Pacetti and Tennessee & Wiesniacy – December 23
DESCRIPTION:Stop by the Oak for tunes from 2-9 PM! \n2-5 PM: Sam Pacetti\n6-9 PM: Tennessee & Wiesniacy\n\nFREE show\n2-9 PM\nFun for all ages\nFriendly pups welcome\nMultiple bars stocked with craft beers\, St. Augustine Distillery Products\, & more!\nOn site dining from St. Augustine Seafood Company!\n\n\n\nClick here for Instagram!\nClick here for Facebook!
URL:https://saseafoodco.com/event/sam-pacetti-and-tennessee-wiesniacy-december-23/
LOCATION:Colonial Oak Music Park\, 21 St George Street\, St Augustine\, FL\, 32084\, United States
ATTACH;FMTTYPE=image/png:https://saseafoodco.com/wp-content/uploads/2023/06/Anthony-Garmont-5cE0mG.tmp_.png
GEO:29.8966433;-81.3132059
X-APPLE-STRUCTURED-LOCATION;VALUE=URI;X-ADDRESS=Colonial Oak Music Park 21 St George Street St Augustine FL 32084 United States;X-APPLE-RADIUS=500;X-TITLE=21 St George Street:geo:-81.3132059,29.8966433
END:VEVENT
BEGIN:VEVENT
DTSTART;TZID=UTC:20241224T170000
DTEND;TZID=UTC:20241224T200000
DTSTAMP:20260420T013346
CREATED:20241204T152638Z
LAST-MODIFIED:20241224T235634Z
UID:10002155-1735059600-1735070400@saseafoodco.com
SUMMARY:Sam Pacetti – December 24
DESCRIPTION:Catch Sam Pacetti at the Oak from 5-8 PM!\n\nFREE show\n5-8 PM\nFun for all ages\nFriendly pups welcome\nMultiple bars stocked with craft beers\, St. Augustine Distillery Products\, & more!\nOn site dining from St. Augustine Seafood Company!\n\n\n\nClick here for Instagram!\nClick here for Facebook!
URL:https://saseafoodco.com/event/sam-pacetti-december-24/
LOCATION:Colonial Oak Music Park\, 21 St George Street\, St Augustine\, FL\, 32084\, United States
ATTACH;FMTTYPE=image/png:https://saseafoodco.com/wp-content/uploads/2023/06/Anthony-Garmont-5cE0mG.tmp_.png
GEO:29.8966433;-81.3132059
X-APPLE-STRUCTURED-LOCATION;VALUE=URI;X-ADDRESS=Colonial Oak Music Park 21 St George Street St Augustine FL 32084 United States;X-APPLE-RADIUS=500;X-TITLE=21 St George Street:geo:-81.3132059,29.8966433
END:VEVENT
BEGIN:VEVENT
DTSTART;VALUE=DATE:20241225
DTEND;VALUE=DATE:20241226
DTSTAMP:20260420T013346
CREATED:20241202T204144Z
LAST-MODIFIED:20241225T234132Z
UID:10002144-1735084800-1735171199@saseafoodco.com
SUMMARY:Closed Christmas Day – December 25
DESCRIPTION:Closed on Christmas Day! We’ll be back TOMORROW with Ramona & the Riot!
URL:https://saseafoodco.com/event/closed-christmas-day-december-25/
LOCATION:Colonial Oak Music Park\, 21 St George Street\, St Augustine\, FL\, 32084\, United States
ATTACH;FMTTYPE=image/png:https://saseafoodco.com/wp-content/uploads/2023/06/Anthony-Garmont-5cE0mG.tmp_.png
GEO:29.8966433;-81.3132059
X-APPLE-STRUCTURED-LOCATION;VALUE=URI;X-ADDRESS=Colonial Oak Music Park 21 St George Street St Augustine FL 32084 United States;X-APPLE-RADIUS=500;X-TITLE=21 St George Street:geo:-81.3132059,29.8966433
END:VEVENT
BEGIN:VEVENT
DTSTART;TZID=UTC:20241226T190000
DTEND;TZID=UTC:20241226T220000
DTSTAMP:20260420T013346
CREATED:20241204T162634Z
LAST-MODIFIED:20241226T232631Z
UID:10002156-1735239600-1735250400@saseafoodco.com
SUMMARY:Ramona + The Riot – December 26
DESCRIPTION:A coming together of hip-hop\, rhythm and blues\, funk\, pop\, rock\, and soul. Don’t miss this perfectly outrageous performance by Ramona + The Riot!\n\nFREE show\n7-10 PM\nFun for all ages\nFriendly pups welcome\nMultiple bars stocked with craft beers\, St. Augustine Distillery Products\, & more!\nOn site dining from St. Augustine Seafood Company!\n\n\n\nClick here for Instagram!\nClick here for Facebook!
URL:https://saseafoodco.com/event/ramona-the-riot-december-26-2/
LOCATION:Colonial Oak Music Park\, 21 St George Street\, St Augustine\, FL\, 32084\, United States
ATTACH;FMTTYPE=image/jpeg:https://saseafoodco.com/wp-content/uploads/2023/12/RAMONA-AND-THE-RIOT-06-mHkj8z.tmp_.jpg
GEO:29.8966433;-81.3132059
X-APPLE-STRUCTURED-LOCATION;VALUE=URI;X-ADDRESS=Colonial Oak Music Park 21 St George Street St Augustine FL 32084 United States;X-APPLE-RADIUS=500;X-TITLE=21 St George Street:geo:-81.3132059,29.8966433
END:VEVENT
BEGIN:VEVENT
DTSTART;TZID=UTC:20241227T140000
DTEND;TZID=UTC:20241227T220000
DTSTAMP:20260420T013346
CREATED:20241204T162634Z
LAST-MODIFIED:20241227T232631Z
UID:10002157-1735308000-1735336800@saseafoodco.com
SUMMARY:Bret Blackshear & The Jess Zimmerman Band – December 27
DESCRIPTION:Don’t miss Bret Blackshear followed by the Jess Zimmerman Band!\nBret Blackshear: 2-5 PM\nThe Jess Zimmerman Band: 7-10 PM \n\nFREE show\nFun for all ages\nFriendly pups welcome\nMultiple bars stocked with craft beers\, St. Augustine Distillery Products\, & more!\nOn site dining from St. Augustine Seafood Company!\n\n\n\nClick here for Instagram!\nClick here for Facebook!
URL:https://saseafoodco.com/event/bret-blackshear-the-jess-zimmerman-band-december-27/
LOCATION:Colonial Oak Music Park\, 21 St George Street\, St Augustine\, FL\, 32084\, United States
ATTACH;FMTTYPE=image/jpeg:https://saseafoodco.com/wp-content/uploads/2023/12/JESS-ZIMMERMAN-BAND-09-scaled-HNaaJU.tmp_.jpg
GEO:29.8966433;-81.3132059
X-APPLE-STRUCTURED-LOCATION;VALUE=URI;X-ADDRESS=Colonial Oak Music Park 21 St George Street St Augustine FL 32084 United States;X-APPLE-RADIUS=500;X-TITLE=21 St George Street:geo:-81.3132059,29.8966433
END:VEVENT
BEGIN:VEVENT
DTSTART;TZID=UTC:20241228T140000
DTEND;TZID=UTC:20241228T220000
DTSTAMP:20260420T013346
CREATED:20241204T162634Z
LAST-MODIFIED:20241228T232630Z
UID:10002158-1735394400-1735423200@saseafoodco.com
SUMMARY:Kyra Livingston & Cumberland Band – December 28
DESCRIPTION:Rock out with Kyra Livingston & The Cumberland Band! \nKyra Livingston: 2-5 PM\nCumberland: 7-10 PM\n\nFREE show\n7-10 PM\nFun for all ages\nFriendly pups welcome\nMultiple bars stocked with craft beers\, St. Augustine Distillery Products\, & more!\nOn site dining from St. Augustine Seafood Company!\n\n\n\nClick here for Instagram!\nClick here for Facebook!
URL:https://saseafoodco.com/event/kyra-livingston-cumberland-band-december-28/
LOCATION:Colonial Oak Music Park\, 21 St George Street\, St Augustine\, FL\, 32084\, United States
ATTACH;FMTTYPE=image/png:https://saseafoodco.com/wp-content/uploads/2023/03/Screen-Shot-2023-03-28-at-10.23.30-AM-Bt2xnm.tmp_.png
GEO:29.8966433;-81.3132059
X-APPLE-STRUCTURED-LOCATION;VALUE=URI;X-ADDRESS=Colonial Oak Music Park 21 St George Street St Augustine FL 32084 United States;X-APPLE-RADIUS=500;X-TITLE=21 St George Street:geo:-81.3132059,29.8966433
END:VEVENT
BEGIN:VEVENT
DTSTART;TZID=UTC:20241229T180000
DTEND;TZID=UTC:20241229T210000
DTSTAMP:20260420T013346
CREATED:20241204T162634Z
LAST-MODIFIED:20241229T235631Z
UID:10002159-1735495200-1735506000@saseafoodco.com
SUMMARY:Whalin – December 29
DESCRIPTION:Rock out with Whalin at your favorite outdoor live music venue in historic St. Augustine!\n\nFREE show\n6-9 PM\nFun for all ages\nFriendly pups welcome\nMultiple bars stocked with craft beers\, St. Augustine Distillery Products\, & more!\nOn site dining from St. Augustine Seafood Company!\n\n\n\nClick here for Instagram!\nClick here for Facebook!
URL:https://saseafoodco.com/event/whalin-december-29/
LOCATION:Colonial Oak Music Park\, 21 St George Street\, St Augustine\, FL\, 32084\, United States
ATTACH;FMTTYPE=image/png:https://saseafoodco.com/wp-content/uploads/2024/03/Whalin-4YA181.tmp_.png
GEO:29.8966433;-81.3132059
X-APPLE-STRUCTURED-LOCATION;VALUE=URI;X-ADDRESS=Colonial Oak Music Park 21 St George Street St Augustine FL 32084 United States;X-APPLE-RADIUS=500;X-TITLE=21 St George Street:geo:-81.3132059,29.8966433
END:VEVENT
END:VCALENDAR