BEGIN:VCALENDAR
VERSION:2.0
PRODID:-//Saint Augustine Seafood Company | Local Northeast Florida Fast Casual Seafood in Downtown St. Augustine - ECPv6.15.12.2//NONSGML v1.0//EN
CALSCALE:GREGORIAN
METHOD:PUBLISH
X-WR-CALNAME:Saint Augustine Seafood Company | Local Northeast Florida Fast Casual Seafood in Downtown St. Augustine
X-ORIGINAL-URL:https://saseafoodco.com
X-WR-CALDESC:Events for Saint Augustine Seafood Company | Local Northeast Florida Fast Casual Seafood in Downtown St. Augustine
REFRESH-INTERVAL;VALUE=DURATION:PT1H
X-Robots-Tag:noindex
X-PUBLISHED-TTL:PT1H
BEGIN:VTIMEZONE
TZID:UTC
BEGIN:STANDARD
TZOFFSETFROM:+0000
TZOFFSETTO:+0000
TZNAME:UTC
DTSTART:20220101T000000
END:STANDARD
END:VTIMEZONE
BEGIN:VEVENT
DTSTART;TZID=UTC:20250918T180000
DTEND;TZID=UTC:20250921T210000
DTSTAMP:20260423T095840
CREATED:20250822T002953Z
LAST-MODIFIED:20250918T232958Z
UID:10002478-1758218400-1758488400@saseafoodco.com
SUMMARY:Sing Out Loud Local Showcase: September 18-21
DESCRIPTION:The Local Artist Showcases are a cornerstone of the Sing Out Loud Festival experience\, offering music fans an opportunity to explore Northeast Florida’s diverse and vibrant music scene. From indie rock and bluegrass to hip hop\, country\, spoken word and comedy\, the lineup reflects the richness of talent found throughout the region. \nFree\, all ages\, friendly dogs welcome \nThursday\, September 18 \n6:00PM – 7:00PM: Artist Jam\n7:00PM – 8:00PM: Aslyn Barringer McTaggart\n8:00PM – 9:00PM: Rambler Kane\n9:00PM – 10:00PM: Bad Dog Mama \nFriday\, September 19 \n6:00PM – 7:00PM: SOFT\n7:30PM – 8:30PM: American Souvenir\n9:00PM – 10:00PM: Angel Chantel & Underbrush \nSaturday\, September 20 \n3:00PM – 4:00PM: Charlie Robertson\n4:30PM – 5:30PM: Few Fellas Brass Band\n6:00PM – 7:00PM: Billy Buchanan\n7:30PM – 8:30PM: Christopher Shawn\n9:00PM – 10:00PM: Feverdreams \nSunday\, September 21 \n2:00PM – 3:00PM: (V)OWLS\n3:30PM – 4:30PM: Treis and Friends\n5:00PM – 6:00PM: The Saltones\n6:30PM – 7:30PM: The Rennys\n8:00PM – 9:00PM: Souvineer \n*Artists\, dates\, and times are subject to change
URL:https://saseafoodco.com/event/sing-out-loud-local-showcase-september-18-21/
LOCATION:Colonial Oak Music Park\, 21 St George Street\, St Augustine\, FL\, 32084\, United States
ATTACH;FMTTYPE=image/webp:https://saseafoodco.com/wp-content/uploads/2025/08/SOL-OAK-NAeat0.tmp_.webp
GEO:29.8966433;-81.3132059
X-APPLE-STRUCTURED-LOCATION;VALUE=URI;X-ADDRESS=Colonial Oak Music Park 21 St George Street St Augustine FL 32084 United States;X-APPLE-RADIUS=500;X-TITLE=21 St George Street:geo:-81.3132059,29.8966433
END:VEVENT
BEGIN:VEVENT
DTSTART;TZID=UTC:20250912T180000
DTEND;TZID=UTC:20250914T210000
DTSTAMP:20260423T095840
CREATED:20250815T002956Z
LAST-MODIFIED:20250912T235950Z
UID:10002452-1757700000-1757883600@saseafoodco.com
SUMMARY:Sing Out Loud Local Showcase: September 12 – 14
DESCRIPTION:The Local Artist Showcases are a cornerstone of the Sing Out Loud Festival experience\, offering music fans an opportunity to explore Northeast Florida’s diverse and vibrant music scene. From indie rock and bluegrass to hip hop\, country\, spoken word and comedy\, the lineup reflects the richness of talent found throughout the region. \n  \nFree\, all ages\, friendly dogs welcome \n\nFriday\, September 12 \n6:00PM – 7:00PM: Shayla Nelson\n7:30PM – 8:30PM: Matt Megrue\n9:00PM – 10:00PM: Chemtrails \nSaturday\, September 13 \n4:30PM – 5:30PM: The Music Misfits\n6:00PM – 7:00PM: Closer to the ocean\n7:30PM – 8:30PM: The Currys\n9:00PM – 10:00PM: Idle Acres \nSunday\, September 14 \n3:30PM – 4:30PM: Nathan Allen\n5:00PM – 6:00PM: Hannah Stokes Band\n6:30PM – 7:30PM: Folk Is People\n8:00PM – 9:00PM: TBD \n*Artists\, dates\, and times are subject to change
URL:https://saseafoodco.com/event/sing-out-loud-local-showcase-september-12-14/
LOCATION:Colonial Oak Music Park\, 21 St George Street\, St Augustine\, FL\, 32084\, United States
ATTACH;FMTTYPE=image/webp:https://saseafoodco.com/wp-content/uploads/2025/08/SOL-OAK-NAeat0.tmp_.webp
GEO:29.8966433;-81.3132059
X-APPLE-STRUCTURED-LOCATION;VALUE=URI;X-ADDRESS=Colonial Oak Music Park 21 St George Street St Augustine FL 32084 United States;X-APPLE-RADIUS=500;X-TITLE=21 St George Street:geo:-81.3132059,29.8966433
END:VEVENT
BEGIN:VEVENT
DTSTART;TZID=UTC:20250905T180000
DTEND;TZID=UTC:20250907T210000
DTSTAMP:20260423T095840
CREATED:20250814T104454Z
LAST-MODIFIED:20250905T235948Z
UID:10002451-1757095200-1757278800@saseafoodco.com
SUMMARY:Sing Out Loud Local Showcase: September 5 – 7
DESCRIPTION:The Local Artist Showcases are a cornerstone of the Sing Out Loud Festival experience\, offering music fans an opportunity to explore Northeast Florida’s diverse and vibrant music scene. From indie rock and bluegrass to hip hop\, country\, spoken word and comedy\, the lineup reflects the richness of talent found throughout the region. \nFree\, all ages\, friendly dogs welcome \nFriday\, September 5 \n6:00PM – 7:00PM: Dizzlephunk\n7:30PM – 8:30PM: Tonal\n9:00PM – 10:00PM: Armadillo Operator \nSaturday\, September 6 \n6:00PM – 7:00PM: Violet Mourning\n7:30PM – 8:30PM: DL is OK\n9:00PM – 10:00PM: Tori Nance \nSunday\, September 7 \n3:30PM – 4:30PM: The Bridge Street Vibe\n5:00PM – 6:00PM: Gavin Powell\n6:30PM – 7:30PM: Ashley Estevez\n8:00PM – 9:00PM: Allen Arena – Good Time Charlie \n\n*Artists\, dates\, and times are subject to change
URL:https://saseafoodco.com/event/sing-out-loud-local-showcase-september-5-7/
LOCATION:Colonial Oak Music Park\, 21 St George Street\, St Augustine\, FL\, 32084\, United States
ATTACH;FMTTYPE=image/webp:https://saseafoodco.com/wp-content/uploads/2025/08/SOL-OAK-NAeat0.tmp_.webp
GEO:29.8966433;-81.3132059
X-APPLE-STRUCTURED-LOCATION;VALUE=URI;X-ADDRESS=Colonial Oak Music Park 21 St George Street St Augustine FL 32084 United States;X-APPLE-RADIUS=500;X-TITLE=21 St George Street:geo:-81.3132059,29.8966433
END:VEVENT
BEGIN:VEVENT
DTSTART;TZID=UTC:20240922T170000
DTEND;TZID=UTC:20240922T220000
DTSTAMP:20260423T095840
CREATED:20240823T000823Z
LAST-MODIFIED:20240922T232324Z
UID:10002039-1727024400-1727042400@saseafoodco.com
SUMMARY:Sing Out Loud – September 22
DESCRIPTION:5:00pm – Uncle Mosie\n6:00pm – Alrighty Then\n6:45pm – Evening Standards\n8:00pm – One Good Ring
URL:https://saseafoodco.com/event/sing-out-loud-september-22/
LOCATION:Colonial Oak Music Park\, 21 St George Street\, St Augustine\, FL\, 32084\, United States
GEO:29.8966433;-81.3132059
X-APPLE-STRUCTURED-LOCATION;VALUE=URI;X-ADDRESS=Colonial Oak Music Park 21 St George Street St Augustine FL 32084 United States;X-APPLE-RADIUS=500;X-TITLE=21 St George Street:geo:-81.3132059,29.8966433
END:VEVENT
BEGIN:VEVENT
DTSTART;TZID=UTC:20240915T170000
DTEND;TZID=UTC:20240915T220000
DTSTAMP:20260423T095840
CREATED:20240910T113823Z
LAST-MODIFIED:20240915T235323Z
UID:10002051-1726419600-1726437600@saseafoodco.com
SUMMARY:Sing Out Loud Festival – September 15
DESCRIPTION:Local Artist Showcases are a fixture of Sing Out Loud Festival and feature local and regional talent ranging from indie rock to bluegrass\, hip hop to country\, comedy to Americana. The showcases are free and open to the public providing music enthusiasts the opportunity to explore the area’s vibrant music scene. \n5:00 pm – Uncle Mosie \n6:15pm – The Gatorbone Trio \n7:30pm – Dunehoppers
URL:https://saseafoodco.com/event/sing-out-loud-festival-september-15/
LOCATION:Colonial Oak Music Park\, 21 St George Street\, St Augustine\, FL\, 32084\, United States
GEO:29.8966433;-81.3132059
X-APPLE-STRUCTURED-LOCATION;VALUE=URI;X-ADDRESS=Colonial Oak Music Park 21 St George Street St Augustine FL 32084 United States;X-APPLE-RADIUS=500;X-TITLE=21 St George Street:geo:-81.3132059,29.8966433
END:VEVENT
BEGIN:VEVENT
DTSTART;TZID=UTC:20240914T170000
DTEND;TZID=UTC:20240914T220000
DTSTAMP:20260423T095840
CREATED:20240815T003831Z
LAST-MODIFIED:20240914T230823Z
UID:10002033-1726333200-1726351200@saseafoodco.com
SUMMARY:Sing Out Loud  – September 14
DESCRIPTION:5:00pm – Bear & Robert \n6:15pm – Strange String \n7:30pm – Ancient City Slickers \n9:00pm – Burn Unit
URL:https://saseafoodco.com/event/sing-out-loud-september-14/
LOCATION:Colonial Oak Music Park\, 21 St George Street\, St Augustine\, FL\, 32084\, United States
GEO:29.8966433;-81.3132059
X-APPLE-STRUCTURED-LOCATION;VALUE=URI;X-ADDRESS=Colonial Oak Music Park 21 St George Street St Augustine FL 32084 United States;X-APPLE-RADIUS=500;X-TITLE=21 St George Street:geo:-81.3132059,29.8966433
END:VEVENT
BEGIN:VEVENT
DTSTART;TZID=UTC:20240913T183000
DTEND;TZID=UTC:20240913T220000
DTSTAMP:20260423T095840
CREATED:20240814T005323Z
LAST-MODIFIED:20240913T225326Z
UID:10002027-1726252200-1726264800@saseafoodco.com
SUMMARY:Pokey LaFarge – September 13
DESCRIPTION:Sing Out Loud Festival presents Pokey LaFarge at the Oak! \nRambler Kane & Chelsea Saddler also performing! \n\nFREE show\n6:30 PM\nFun for all ages\nFriendly pups welcome\nMultiple bars stocked with craft beers\, St. Augustine Distillery Products\, & more!\nOn site dining from St. Augustine Seafood Company!\n\n\n\nClick here for Instagram!\nClick here for Facebook!\n\nAbout the Artist- After crisscrossing the nation for the last half-decade looking for a home\, Pokey LaFarge found himself in Mid-Coast Maine. Upon arriving\, the Illinois-born singer/songwriter/actor pursued a major life change\, working 12-hour days on a local farm—a turn of events that catalyzed an extraordinary burst of creativity and redefined his sense of purpose as an artist. On his new album Rhumba Country\, LaFarge reveals his newly heightened devotion to making music that channels pure joy. “There was a time when I glorified sadness because I lost sight of who I was\, but now I understand that creating and expressing joy is my gift\, and gifts are meant to be shared\,” he says. Reclaiming his voice\, LaFarge has recorded his boldest album yet. \n  \nRhumba Country was initially shaped from material that emerged while LaFarge was deep in work on the farm. “I’d be pushing a plow or scattering seeds\, and the songs would just come to me\,” he recalls. “It was tremendously inspirational and made me realize that apart from singing\, farming is perhaps the oldest human art form.” But as he moved forward with his songwriting\, something felt undeniably amiss. LaFarge then spoke with fellow Midwestern transplant Elliot Bergman (Wild Belle)\, who suggested he return to city life in Los Angeles for a season so that the two musicians could work together—a collaboration that soon brought the rhumba to LaFarge’s country. As he immersed himself in the album’s creation\, LaFarge began dreaming up a kaleidoscopic sound informed by his love of music from far-ranging eras and corners of the globe\, including mambo\, tropicália\, rocksteady\, and mid-century American rock-and-roll. Co-produced along with Chris Seefried and Bergman and recorded in L.A.\, the resulting Rhumba Country is an invitation to come together to celebrate life and love. “The songs that naturally come to me are upbeat and make you wanna dance or at least bop your head—they’re all very colorful\,” says LaFarge. “I used to think of my music in dark blue\, but now I see it in technicolor.” \nLaFarge’s boundless curiosity for music from other cultures played a vital part in shaping the album’s instantly captivating sound. “Listening to a lot of music from around the world helped simplify my approach\,” he notes\, naming Brazilian singer/composer Jorge Ben among his key inspirations on Rhumba Country. “When you scale back the chord progressions and get a good rhythm going\, the musicians have more freedom to play anything or nothing at all. There’s so much space everywhere\, and as a singer\, it allows me to be that lead instrument and weave in and out however I want.” At the same time\, LaFarge brought a more intense and focused rigor to his songwriting process. “I need to trust in what feels good to me\, but I also have to ask myself\, ‘Is the message coming through? Am I stimulating thought in a way that might shift someone’s perspective? Am I being honest in telling my story\, and am I doing it in love?’” he says. \nReflecting on the origins of Rhumba Country\, LaFarge points to one of the most crucial revelations he experienced while farming: a newfound understanding of the uniquely human potential to be “conduits of continuous creation.” To that end\, his effort to provide listeners with “medicine for the soul” has led LaFarge toward a deeper level of dedication when it comes to nurturing his own spirit. “You have to live the life you’re singing in your songs—no matter what you’re going through\,” he says. “Everything will come out in your music whether you want it to or not. I’ve realized that the more I can pursue goodness and live in peace\, the more I can make the music I was put here to make.” And by living with intention and fully connecting with his truest purpose\, LaFarge might finally be ready to lay his head in a place he calls home.
URL:https://saseafoodco.com/event/pokey-lafarge-september-13/
LOCATION:Colonial Oak Music Park\, 21 St George Street\, St Augustine\, FL\, 32084\, United States
ATTACH;FMTTYPE=image/jpeg:https://saseafoodco.com/wp-content/uploads/2024/08/PokeyLafarge-HEUvHN.tmp_.jpg
GEO:29.8966433;-81.3132059
X-APPLE-STRUCTURED-LOCATION;VALUE=URI;X-ADDRESS=Colonial Oak Music Park 21 St George Street St Augustine FL 32084 United States;X-APPLE-RADIUS=500;X-TITLE=21 St George Street:geo:-81.3132059,29.8966433
END:VEVENT
BEGIN:VEVENT
DTSTART;TZID=UTC:20240907T140000
DTEND;TZID=UTC:20240907T220000
DTSTAMP:20260423T095840
CREATED:20240814T152328Z
LAST-MODIFIED:20240907T230822Z
UID:10002029-1725717600-1725746400@saseafoodco.com
SUMMARY:Sing Out Loud – September 7
DESCRIPTION:2:00pm – Yael\n4:30pm – Stella Soul\n7:00pm – LPT\n8:00pm – Tejedor
URL:https://saseafoodco.com/event/sing-out-loud-september-7/
LOCATION:Colonial Oak Music Park\, 21 St George Street\, St Augustine\, FL\, 32084\, United States
GEO:29.8966433;-81.3132059
X-APPLE-STRUCTURED-LOCATION;VALUE=URI;X-ADDRESS=Colonial Oak Music Park 21 St George Street St Augustine FL 32084 United States;X-APPLE-RADIUS=500;X-TITLE=21 St George Street:geo:-81.3132059,29.8966433
END:VEVENT
BEGIN:VEVENT
DTSTART;TZID=UTC:20230929T140000
DTEND;TZID=UTC:20230929T213000
DTSTAMP:20260423T095840
CREATED:20230830T000830Z
LAST-MODIFIED:20230929T235344Z
UID:10001695-1695996000-1696023000@saseafoodco.com
SUMMARY:Songwriters Festival – September 29
DESCRIPTION:Coming all the way from Nashville\, Tennessee! Meet the songwriters behind today’s top radio hits. Once a year\, The St. Augustine Songwriters Festival brings the artists responsible for top hit country songs to local venues including the Oak! Stop by and enjoy this FREE event with us! \n  \nFriday\, September 29\n2:00 PM – 3:20 PM\nAris Smith – Paul Orehovec – Emmet Stevens Jr \n3:30 PM – 5:00 PM\nLauren Hungate – Davis Loose – Mel Washington \n5:10 PM – 6:40 PM\nRussell Sutton – Tofur Brown – David Tolliver \n6:50 PM – 7-20 PM\nWar Hippies \n7:30 PM – 9:30 PM\nDave Berg – Brady Seals – Danny Myric
URL:https://saseafoodco.com/event/songwriters-festival-september-29/
LOCATION:Colonial Oak Music Park\, 21 St George Street\, St Augustine\, FL\, 32084\, United States
ATTACH;FMTTYPE=image/png:https://saseafoodco.com/wp-content/uploads/2023/08/Screen-Shot-2023-08-09-at-12.21.31-PM-mippvx.tmp_.png
GEO:29.8966433;-81.3132059
X-APPLE-STRUCTURED-LOCATION;VALUE=URI;X-ADDRESS=Colonial Oak Music Park 21 St George Street St Augustine FL 32084 United States;X-APPLE-RADIUS=500;X-TITLE=21 St George Street:geo:-81.3132059,29.8966433
END:VEVENT
BEGIN:VEVENT
DTSTART;TZID=UTC:20230924T150000
DTEND;TZID=UTC:20230924T210000
DTSTAMP:20260423T095840
CREATED:20230825T005334Z
LAST-MODIFIED:20230924T235326Z
UID:10001692-1695567600-1695589200@saseafoodco.com
SUMMARY:Charlie Robertson + MORE! – September 24
DESCRIPTION:September brings the Sing Out Loud Showcase to the Oak! Join us for this annual epic celebration of live music in the Nation’s Oldest City!\nSunday\, September 24\n3:00 PM – Jim Carrick & Charley Simmons\n4:15 PM – Lee Hunter & Joey Kerr\n5:30 PM – Marianne Lerbs\n6:45 PM – John Winters & Mark Richey\n8:00 PM – Charlie Robertson\n***All Sing Out Loud performances at the Oak are free and family friendly***\n  \n			#gallery-1 {\n				margin: auto;\n			}\n			#gallery-1 .gallery-item {\n				float: left;\n				margin-top: 10px;\n				text-align: center;\n				width: 33%;\n			}\n			#gallery-1 img {\n				border: 2px solid #cfcfcf;\n			}\n			#gallery-1 .gallery-caption {\n				margin-left: 0;\n			}\n			/* see gallery_shortcode() in wp-includes/media.php */ \n\n\n\n				\n			\n\n				Mark Richey\n				\n\n\n\n				\n			\n\n				Marianne Lerbs\n				\n\n			\n		\n 
URL:https://saseafoodco.com/event/charlie-robertson-more-september-24/
LOCATION:Colonial Oak Music Park\, 21 St George Street\, St Augustine\, FL\, 32084\, United States
ATTACH;FMTTYPE=image/png:https://saseafoodco.com/wp-content/uploads/2023/08/Wordpress-Header-CgVGYp.tmp_.png
GEO:29.8966433;-81.3132059
X-APPLE-STRUCTURED-LOCATION;VALUE=URI;X-ADDRESS=Colonial Oak Music Park 21 St George Street St Augustine FL 32084 United States;X-APPLE-RADIUS=500;X-TITLE=21 St George Street:geo:-81.3132059,29.8966433
END:VEVENT
BEGIN:VEVENT
DTSTART;TZID=UTC:20230923T180000
DTEND;TZID=UTC:20230923T220000
DTSTAMP:20260423T095840
CREATED:20230824T005418Z
LAST-MODIFIED:20230923T230824Z
UID:10001691-1695492000-1695506400@saseafoodco.com
SUMMARY:Amy Robbins + MORE!  – September 23
DESCRIPTION:September brings the Sing Out Loud Showcase to the Oak! Join us for this annual epic celebration of live music in the Nation’s Oldest City!\nSaturday\, September 23\n6:00 PM – TBA\n7:00 PM – TBA\n8:00 PM – Amy Robbins Band\n9:00 PM – TBA\n***All Sing Out Loud performances at the Oak are free and family friendly***\n  \n \nAmy Robbins
URL:https://saseafoodco.com/event/amy-robbins-more-september-23/
LOCATION:Colonial Oak Music Park\, 21 St George Street\, St Augustine\, FL\, 32084\, United States
ATTACH;FMTTYPE=image/png:https://saseafoodco.com/wp-content/uploads/2023/08/Wordpress-Header-CgVGYp.tmp_.png
GEO:29.8966433;-81.3132059
X-APPLE-STRUCTURED-LOCATION;VALUE=URI;X-ADDRESS=Colonial Oak Music Park 21 St George Street St Augustine FL 32084 United States;X-APPLE-RADIUS=500;X-TITLE=21 St George Street:geo:-81.3132059,29.8966433
END:VEVENT
BEGIN:VEVENT
DTSTART;TZID=UTC:20230922T180000
DTEND;TZID=UTC:20230922T220000
DTSTAMP:20260423T095840
CREATED:20230823T010837Z
LAST-MODIFIED:20230922T233831Z
UID:10001690-1695405600-1695420000@saseafoodco.com
SUMMARY:Ramona & The Riot + MORE! – September 22
DESCRIPTION:September brings the Sing Out Loud Showcase to the Oak! Join us for this annual epic celebration of live music in the Nation’s Oldest City!\nFriday\, September 22\n6:00 PM – Billy Buchanan & His Rock ‘N Soul Revue\n7:30 PM – TBA\n9:00 PM – Ramona & The Riot\n***All Sing Out Loud performances at the Oak are free and family friendly***\n  \n			#gallery-1 {\n				margin: auto;\n			}\n			#gallery-1 .gallery-item {\n				float: left;\n				margin-top: 10px;\n				text-align: center;\n				width: 33%;\n			}\n			#gallery-1 img {\n				border: 2px solid #cfcfcf;\n			}\n			#gallery-1 .gallery-caption {\n				margin-left: 0;\n			}\n			/* see gallery_shortcode() in wp-includes/media.php */ \n\n\n\n				\n			\n\n				Billy Buchanan\n				\n\n\n\n				\n			\n\n				Ramona & the Riot\n				\n\n			\n		\n 
URL:https://saseafoodco.com/event/ramona-the-riot-more-september-22/
LOCATION:Colonial Oak Music Park\, 21 St George Street\, St Augustine\, FL\, 32084\, United States
ATTACH;FMTTYPE=image/png:https://saseafoodco.com/wp-content/uploads/2023/08/Wordpress-Header-CgVGYp.tmp_.png
GEO:29.8966433;-81.3132059
X-APPLE-STRUCTURED-LOCATION;VALUE=URI;X-ADDRESS=Colonial Oak Music Park 21 St George Street St Augustine FL 32084 United States;X-APPLE-RADIUS=500;X-TITLE=21 St George Street:geo:-81.3132059,29.8966433
END:VEVENT
BEGIN:VEVENT
DTSTART;TZID=UTC:20230917T150000
DTEND;TZID=UTC:20230917T210000
DTSTAMP:20260423T095840
CREATED:20230818T000831Z
LAST-MODIFIED:20230917T233837Z
UID:10001686-1694962800-1694984400@saseafoodco.com
SUMMARY:Grant Peeples + MORE! – September 17
DESCRIPTION:September brings the Sing Out Loud Showcase to the Oak! Join us for this annual epic celebration of live music in the Nation’s Oldest City!\nSunday\, September 17\n3:00 PM – Skin & Bonz\n4:15 PM – The Taildraggers\n5:30 PM – The Thick & Thin String Band\n6:45 PM – Wild Shiners\n8:00 PM – Grant Peeples\n***All Sing Out Loud performances at the Oak are free and family friendly***\n			#gallery-1 {\n				margin: auto;\n			}\n			#gallery-1 .gallery-item {\n				float: left;\n				margin-top: 10px;\n				text-align: center;\n				width: 33%;\n			}\n			#gallery-1 img {\n				border: 2px solid #cfcfcf;\n			}\n			#gallery-1 .gallery-caption {\n				margin-left: 0;\n			}\n			/* see gallery_shortcode() in wp-includes/media.php */ \n\n\n\n				\n			\n\n				Grant Peeples\n				\n\n\n\n				\n			\n\n				Skin & Bonz\n				\n\n\n\n				\n			\n\n				Thick & Thin String Band\n				\n\n\n\n\n				\n			\n\n				Wild Shiners
URL:https://saseafoodco.com/event/grant-peeples-more-september-17/
LOCATION:Colonial Oak Music Park\, 21 St George Street\, St Augustine\, FL\, 32084\, United States
ATTACH;FMTTYPE=image/png:https://saseafoodco.com/wp-content/uploads/2023/08/Wordpress-Header-CgVGYp.tmp_.png
GEO:29.8966433;-81.3132059
X-APPLE-STRUCTURED-LOCATION;VALUE=URI;X-ADDRESS=Colonial Oak Music Park 21 St George Street St Augustine FL 32084 United States;X-APPLE-RADIUS=500;X-TITLE=21 St George Street:geo:-81.3132059,29.8966433
END:VEVENT
BEGIN:VEVENT
DTSTART;TZID=UTC:20230916T190000
DTEND;TZID=UTC:20230916T220000
DTSTAMP:20260423T095840
CREATED:20230817T000831Z
LAST-MODIFIED:20230916T230822Z
UID:10001685-1694890800-1694901600@saseafoodco.com
SUMMARY:The Pauses + MORE! – September 16
DESCRIPTION:September brings the Sing Out Loud Showcase to the Oak! Join us for this annual epic celebration of live music in the Nation’s Oldest City!\nSaturday\, September 16\n7:00 PM – Ghost Tropic\n8:00 PM – Evening Standards\n9:00 PM – The Pauses\n***All Sing Out Loud performances at the Oak are free and family friendly*** \n\n			#gallery-1 {\n				margin: auto;\n			}\n			#gallery-1 .gallery-item {\n				float: left;\n				margin-top: 10px;\n				text-align: center;\n				width: 33%;\n			}\n			#gallery-1 img {\n				border: 2px solid #cfcfcf;\n			}\n			#gallery-1 .gallery-caption {\n				margin-left: 0;\n			}\n			/* see gallery_shortcode() in wp-includes/media.php */ \n\n\n\n				\n			\n\n				Ghost Tropic\n				\n\n\n\n				\n			\n\n				The Pauses\n				\n\n			\n		\n 
URL:https://saseafoodco.com/event/sing-out-loud-showcase-september-16/
LOCATION:Colonial Oak Music Park\, 21 St George Street\, St Augustine\, FL\, 32084\, United States
ATTACH;FMTTYPE=image/png:https://saseafoodco.com/wp-content/uploads/2023/08/Wordpress-Header-CgVGYp.tmp_.png
GEO:29.8966433;-81.3132059
X-APPLE-STRUCTURED-LOCATION;VALUE=URI;X-ADDRESS=Colonial Oak Music Park 21 St George Street St Augustine FL 32084 United States;X-APPLE-RADIUS=500;X-TITLE=21 St George Street:geo:-81.3132059,29.8966433
END:VEVENT
BEGIN:VEVENT
DTSTART;TZID=UTC:20230915T180000
DTEND;TZID=UTC:20230915T220000
DTSTAMP:20260423T095840
CREATED:20230816T000939Z
LAST-MODIFIED:20230915T233826Z
UID:10001684-1694800800-1694815200@saseafoodco.com
SUMMARY:Seed from a Tree + MORE! – September 15
DESCRIPTION:September brings the Sing Out Loud Showcase to the Oak! Join us for this annual epic celebration of live music in the Nation’s Oldest City!\nFriday\, September 15\n6:00 PM – Paul Izak\n7:30 PM – The Swell\n9:00 PM – Seed From A Tree\n***All Sing Out Loud performances at the Oak are free and family friendly***\n  \n 
URL:https://saseafoodco.com/event/sing-out-loud-showcase-september-15/
LOCATION:Colonial Oak Music Park\, 21 St George Street\, St Augustine\, FL\, 32084\, United States
ATTACH;FMTTYPE=image/png:https://saseafoodco.com/wp-content/uploads/2023/08/Wordpress-Header-CgVGYp.tmp_.png
GEO:29.8966433;-81.3132059
X-APPLE-STRUCTURED-LOCATION;VALUE=URI;X-ADDRESS=Colonial Oak Music Park 21 St George Street St Augustine FL 32084 United States;X-APPLE-RADIUS=500;X-TITLE=21 St George Street:geo:-81.3132059,29.8966433
END:VEVENT
BEGIN:VEVENT
DTSTART;TZID=UTC:20230910T150000
DTEND;TZID=UTC:20230910T210000
DTSTAMP:20260423T095840
CREATED:20230811T003824Z
LAST-MODIFIED:20230910T230859Z
UID:10001681-1694358000-1694379600@saseafoodco.com
SUMMARY:John Dickie & Collapsible B + MORE!  – September 10
DESCRIPTION:September brings the Sing Out Loud Showcase to the Oak! Join us for this annual epic celebration of live music in the Nation’s Oldest City!\nSunday\, September 10\n3:00 PM – The Dunehoppers\n4:15 PM – The Skinny\n5:30 PM – Big Pineapple\n6:45 PM — The Naysayer\n8:00 PM — John Dickie & Collapsible B\n***All Sing Out Loud performances at the Oak are free and family friendly*** \n\n \nCollapsible B \n\n \nThe Dunehoppers \n\n 
URL:https://saseafoodco.com/event/sing-out-loud-showcase-september-10/
LOCATION:Colonial Oak Music Park\, 21 St George Street\, St Augustine\, FL\, 32084\, United States
ATTACH;FMTTYPE=image/png:https://saseafoodco.com/wp-content/uploads/2023/08/Wordpress-Header-CgVGYp.tmp_.png
GEO:29.8966433;-81.3132059
X-APPLE-STRUCTURED-LOCATION;VALUE=URI;X-ADDRESS=Colonial Oak Music Park 21 St George Street St Augustine FL 32084 United States;X-APPLE-RADIUS=500;X-TITLE=21 St George Street:geo:-81.3132059,29.8966433
END:VEVENT
BEGIN:VEVENT
DTSTART;TZID=UTC:20230909T170000
DTEND;TZID=UTC:20230909T220000
DTSTAMP:20260423T095840
CREATED:20230810T002346Z
LAST-MODIFIED:20230909T232418Z
UID:10001680-1694278800-1694296800@saseafoodco.com
SUMMARY:Sun Drop Social + MORE! – September 9
DESCRIPTION:September brings the Sing Out Loud Showcase to the Oak! Join us for this annual epic celebration of live music in the Nation’s Oldest City!\nSaturday\, September 9\n5:00 PM — I-Vibes\n6:00 PM — Pili Pili ft. Sailor Jane\n7:30 PM — DJ Raggamuffin\n9:00 PM — Sun Drop Social \n***All Sing Out Loud performances at the Oak are free and family friendly***\n  \n \nI-Vibes Photo courtesy of Kevin McDonald \n\n 
URL:https://saseafoodco.com/event/sing-out-loud-showcase-september-9/
LOCATION:Colonial Oak Music Park\, 21 St George Street\, St Augustine\, FL\, 32084\, United States
ATTACH;FMTTYPE=image/png:https://saseafoodco.com/wp-content/uploads/2023/08/Wordpress-Header-CgVGYp.tmp_.png
GEO:29.8966433;-81.3132059
X-APPLE-STRUCTURED-LOCATION;VALUE=URI;X-ADDRESS=Colonial Oak Music Park 21 St George Street St Augustine FL 32084 United States;X-APPLE-RADIUS=500;X-TITLE=21 St George Street:geo:-81.3132059,29.8966433
END:VEVENT
END:VCALENDAR